BEGIN:VCALENDAR
VERSION:2.0
PRODID:EVENTFROG//EVENTGROUP//ICAL
BEGIN:VEVENT
UID:20260424T092413Z-7452614305755750631@eventfrog.de
DTSTAMP:20260424T092413Z
DTSTART:20260606T080000Z
DTEND:20260606T143000Z
SUMMARY:Genussreiche E-Bike-Tour durch den Jurapark Aargau
DESCRIPTION:Gerhard Girschweiler führt eine 33 km E-Bike-Tour mit kulinarischen Stopps und Einblicken in Biodiversität und Nachhaltigkeit im Jurapark.\n\nhttps://eventfrog.de/de/p/freizeit-ausfluege/ausflug/genussreiche-e-bike-tour-durch-den-jurapark-aargau-7452614305755750631.html
LOCATION:Bahnhof Aarau
GEO:47.391366;8.051286
URL:https://eventfrog.de/de/p/freizeit-ausfluege/ausflug/genussreiche-e-bike-tour-durch-den-jurapark-aargau-7452614305755750631.html
END:VEVENT
BEGIN:VEVENT
UID:20260424T092413Z-7452614432390120055@eventfrog.de
DTSTAMP:20260424T092413Z
DTSTART:20260829T080000Z
DTEND:20260829T143000Z
SUMMARY:Genussreiche E-Bike-Tour durch den Jurapark Aargau
DESCRIPTION:Gerhard Girschweiler führt eine 33 km E-Bike-Tour mit kulinarischen Stopps und Einblicken in Biodiversität und Nachhaltigkeit im Jurapark.\n\nhttps://eventfrog.de/de/p/freizeit-ausfluege/ausflug/genussreiche-e-bike-tour-durch-den-jurapark-aargau-7452614432390120055.html
LOCATION:Bahnhof Aarau
GEO:47.391366;8.051286
URL:https://eventfrog.de/de/p/freizeit-ausfluege/ausflug/genussreiche-e-bike-tour-durch-den-jurapark-aargau-7452614432390120055.html
END:VEVENT
END:VCALENDAR