BEGIN:VCALENDAR
VERSION:2.0
PRODID:EVENTFROG//EVENTGROUP//ICAL
BEGIN:VEVENT
UID:20260424T103813Z-7452704607409557550@eventfrog.de
DTSTAMP:20260424T103813Z
DTSTART:20260625T173000Z
DTEND:20260625T200000Z
SUMMARY:Farragut North
DESCRIPTION:FARRAGUT NORTH portrays the ruthless strategies and shifting loyalties behind a US presidential primary campaign.\n\nhttps://eventfrog.de/en/p/theatre-stage/theatre/farragut-north-7452704607409557550.html
LOCATION:Millers
GEO:47.351585;8.561410
URL:https://eventfrog.de/en/p/theatre-stage/theatre/farragut-north-7452704607409557550.html
END:VEVENT
BEGIN:VEVENT
UID:20260424T103813Z-7452732955225526759@eventfrog.de
DTSTAMP:20260424T103813Z
DTSTART:20260626T173000Z
DTEND:20260626T200000Z
SUMMARY:Farragut North
DESCRIPTION:FARRAGUT NORTH portrays the ruthless strategies and shifting loyalties behind a US presidential primary campaign.\n\nhttps://eventfrog.de/en/p/theatre-stage/theatre/farragut-north-7452732955225526759.html
LOCATION:Millers
GEO:47.351585;8.561410
URL:https://eventfrog.de/en/p/theatre-stage/theatre/farragut-north-7452732955225526759.html
END:VEVENT
BEGIN:VEVENT
UID:20260424T103813Z-7452825063915549158@eventfrog.de
DTSTAMP:20260424T103813Z
DTSTART:20260627T120000Z
DTEND:20260627T143000Z
SUMMARY:Farragut North
DESCRIPTION:FARRAGUT NORTH portrays the ruthless strategies and shifting loyalties behind a US presidential primary campaign.\n\nhttps://eventfrog.de/en/p/theatre-stage/theatre/farragut-north-7452825063915549158.html
LOCATION:Millers
GEO:47.351585;8.561410
URL:https://eventfrog.de/en/p/theatre-stage/theatre/farragut-north-7452825063915549158.html
END:VEVENT
BEGIN:VEVENT
UID:20260424T103813Z-7452733051539341313@eventfrog.de
DTSTAMP:20260424T103813Z
DTSTART:20260627T173000Z
DTEND:20260627T200000Z
SUMMARY:Farragut North
DESCRIPTION:FARRAGUT NORTH portrays the ruthless strategies and shifting loyalties behind a US presidential primary campaign.\n\nhttps://eventfrog.de/en/p/theatre-stage/theatre/farragut-north-7452733051539341313.html
LOCATION:Millers
GEO:47.351585;8.561410
URL:https://eventfrog.de/en/p/theatre-stage/theatre/farragut-north-7452733051539341313.html
END:VEVENT
BEGIN:VEVENT
UID:20260424T103813Z-7452733149312775159@eventfrog.de
DTSTAMP:20260424T103813Z
DTSTART:20260702T173000Z
DTEND:20260702T200000Z
SUMMARY:Farragut North
DESCRIPTION:FARRAGUT NORTH portrays the ruthless strategies and shifting loyalties behind a US presidential primary campaign.\n\nhttps://eventfrog.de/en/p/theatre-stage/theatre/farragut-north-7452733149312775159.html
LOCATION:Millers
GEO:47.351585;8.561410
URL:https://eventfrog.de/en/p/theatre-stage/theatre/farragut-north-7452733149312775159.html
END:VEVENT
BEGIN:VEVENT
UID:20260424T103813Z-7452733226903145645@eventfrog.de
DTSTAMP:20260424T103813Z
DTSTART:20260703T173000Z
DTEND:20260703T200000Z
SUMMARY:Farragut North
DESCRIPTION:FARRAGUT NORTH portrays the ruthless strategies and shifting loyalties behind a US presidential primary campaign.\n\nhttps://eventfrog.de/en/p/theatre-stage/theatre/farragut-north-7452733226903145645.html
LOCATION:Millers
GEO:47.351585;8.561410
URL:https://eventfrog.de/en/p/theatre-stage/theatre/farragut-north-7452733226903145645.html
END:VEVENT
BEGIN:VEVENT
UID:20260424T103813Z-7452825177384062710@eventfrog.de
DTSTAMP:20260424T103813Z
DTSTART:20260704T120000Z
DTEND:20260704T143000Z
SUMMARY:Farragut North
DESCRIPTION:FARRAGUT NORTH portrays the ruthless strategies and shifting loyalties behind a US presidential primary campaign.\n\nhttps://eventfrog.de/en/p/theatre-stage/theatre/farragut-north-7452825177384062710.html
LOCATION:Millers
GEO:47.351585;8.561410
URL:https://eventfrog.de/en/p/theatre-stage/theatre/farragut-north-7452825177384062710.html
END:VEVENT
BEGIN:VEVENT
UID:20260424T103813Z-7452733386571919180@eventfrog.de
DTSTAMP:20260424T103813Z
DTSTART:20260704T173000Z
DTEND:20260704T200000Z
SUMMARY:Farragut North
DESCRIPTION:FARRAGUT NORTH portrays the ruthless strategies and shifting loyalties behind a US presidential primary campaign.\n\nhttps://eventfrog.de/en/p/theatre-stage/theatre/farragut-north-7452733386571919180.html
LOCATION:Millers
GEO:47.351585;8.561410
URL:https://eventfrog.de/en/p/theatre-stage/theatre/farragut-north-7452733386571919180.html
END:VEVENT
END:VCALENDAR