BEGIN:VCALENDAR
VERSION:2.0
PRODID:EVENTFROG//EVENTGROUP//ICAL
BEGIN:VEVENT
UID:20260424T065630Z-7452717354616646355@eventfrog.de
DTSTAMP:20260424T065630Z
DTSTART:20260517T120000Z
DTEND:20260517T150000Z
SUMMARY:Schauarchiv: Eintauchen in die Welt der Pressefotografie
DESCRIPTION:Das Schauarchiv lädt zum Stöbern im Ringier Bildarchiv mit tausenden Fotos, Negativen und Bildlegenden ein.\n\nhttps://eventfrog.de/de/p/kunst-ausstellungen/kultur/schauarchiv-eintauchen-in-die-welt-der-pressefotografie-7452717354616646355.html
LOCATION:Stadtmuseum Aarau
GEO:47.394343;8.045177
URL:https://eventfrog.de/de/p/kunst-ausstellungen/kultur/schauarchiv-eintauchen-in-die-welt-der-pressefotografie-7452717354616646355.html
END:VEVENT
BEGIN:VEVENT
UID:20260424T065630Z-7452717813142185381@eventfrog.de
DTSTAMP:20260424T065630Z
DTSTART:20260621T120000Z
DTEND:20260621T150000Z
SUMMARY:Schauarchiv: Eintauchen in die Welt der Pressefotografie
DESCRIPTION:Das Schauarchiv lädt zum Stöbern im Ringier Bildarchiv mit tausenden Fotos, Negativen und Bildlegenden ein.\n\nhttps://eventfrog.de/de/p/kunst-ausstellungen/kultur/schauarchiv-eintauchen-in-die-welt-der-pressefotografie-7452717813142185381.html
LOCATION:Stadtmuseum Aarau
GEO:47.394343;8.045177
URL:https://eventfrog.de/de/p/kunst-ausstellungen/kultur/schauarchiv-eintauchen-in-die-welt-der-pressefotografie-7452717813142185381.html
END:VEVENT
BEGIN:VEVENT
UID:20260424T065630Z-7452717813419010089@eventfrog.de
DTSTAMP:20260424T065630Z
DTSTART:20260823T120000Z
DTEND:20260823T150000Z
SUMMARY:Schauarchiv: Eintauchen in die Welt der Pressefotografie
DESCRIPTION:Das Schauarchiv lädt zum Stöbern im Ringier Bildarchiv mit tausenden Fotos, Negativen und Bildlegenden ein.\n\nhttps://eventfrog.de/de/p/kunst-ausstellungen/kultur/schauarchiv-eintauchen-in-die-welt-der-pressefotografie-7452717813419010089.html
LOCATION:Stadtmuseum Aarau
GEO:47.394343;8.045177
URL:https://eventfrog.de/de/p/kunst-ausstellungen/kultur/schauarchiv-eintauchen-in-die-welt-der-pressefotografie-7452717813419010089.html
END:VEVENT
END:VCALENDAR