BEGIN:VCALENDAR
VERSION:2.0
PRODID:EVENTFROG//EVENTGROUP//ICAL
BEGIN:VEVENT
UID:20260424T110137Z-7452761574358416566@eventfrog.de
DTSTAMP:20260424T110137Z
DTSTART:20260513T170000Z
DTEND:20260513T183000Z
SUMMARY:Beckenbodenkurs online
DESCRIPTION:Der Online-Kurs auf Schweizerdeutsch stärkt den Beckenboden von Frauen jeden Alters flexibel und wirkungsvoll im Alltag.\n\nhttps://eventfrog.de/de/p/gesundheit-spiritualitaet/gesundheit-wohlbefinden/beckenbodenkurs-online-7452761574358416566.html
LOCATION:Via Zoom
URL:https://eventfrog.de/de/p/gesundheit-spiritualitaet/gesundheit-wohlbefinden/beckenbodenkurs-online-7452761574358416566.html
END:VEVENT
BEGIN:VEVENT
UID:20260424T110137Z-7452761657959287901@eventfrog.de
DTSTAMP:20260424T110137Z
DTSTART:20260520T170000Z
DTEND:20260520T183000Z
SUMMARY:Beckenbodenkurs online
DESCRIPTION:Der Online-Kurs auf Schweizerdeutsch stärkt den Beckenboden von Frauen jeden Alters flexibel und wirkungsvoll im Alltag.\n\nhttps://eventfrog.de/de/p/gesundheit-spiritualitaet/gesundheit-wohlbefinden/beckenbodenkurs-online-7452761657959287901.html
LOCATION:Via Zoom
URL:https://eventfrog.de/de/p/gesundheit-spiritualitaet/gesundheit-wohlbefinden/beckenbodenkurs-online-7452761657959287901.html
END:VEVENT
BEGIN:VEVENT
UID:20260424T110137Z-7452761658215141074@eventfrog.de
DTSTAMP:20260424T110137Z
DTSTART:20260527T170000Z
DTEND:20260527T183000Z
SUMMARY:Beckenbodenkurs online
DESCRIPTION:Der Online-Kurs auf Schweizerdeutsch stärkt den Beckenboden von Frauen jeden Alters flexibel und wirkungsvoll im Alltag.\n\nhttps://eventfrog.de/de/p/gesundheit-spiritualitaet/gesundheit-wohlbefinden/beckenbodenkurs-online-7452761658215141074.html
LOCATION:Via Zoom
URL:https://eventfrog.de/de/p/gesundheit-spiritualitaet/gesundheit-wohlbefinden/beckenbodenkurs-online-7452761658215141074.html
END:VEVENT
BEGIN:VEVENT
UID:20260424T110137Z-7452761658340970236@eventfrog.de
DTSTAMP:20260424T110137Z
DTSTART:20260603T170000Z
DTEND:20260603T183000Z
SUMMARY:Beckenbodenkurs online
DESCRIPTION:Der Online-Kurs auf Schweizerdeutsch stärkt den Beckenboden von Frauen jeden Alters flexibel und wirkungsvoll im Alltag.\n\nhttps://eventfrog.de/de/p/gesundheit-spiritualitaet/gesundheit-wohlbefinden/beckenbodenkurs-online-7452761658340970236.html
LOCATION:Via Zoom
URL:https://eventfrog.de/de/p/gesundheit-spiritualitaet/gesundheit-wohlbefinden/beckenbodenkurs-online-7452761658340970236.html
END:VEVENT
BEGIN:VEVENT
UID:20260424T110137Z-7452761658458410791@eventfrog.de
DTSTAMP:20260424T110137Z
DTSTART:20260610T170000Z
DTEND:20260610T183000Z
SUMMARY:Beckenbodenkurs online
DESCRIPTION:Der Online-Kurs auf Schweizerdeutsch stärkt den Beckenboden von Frauen jeden Alters flexibel und wirkungsvoll im Alltag.\n\nhttps://eventfrog.de/de/p/gesundheit-spiritualitaet/gesundheit-wohlbefinden/beckenbodenkurs-online-7452761658458410791.html
LOCATION:Via Zoom
URL:https://eventfrog.de/de/p/gesundheit-spiritualitaet/gesundheit-wohlbefinden/beckenbodenkurs-online-7452761658458410791.html
END:VEVENT
BEGIN:VEVENT
UID:20260424T110137Z-7452761658596822833@eventfrog.de
DTSTAMP:20260424T110137Z
DTSTART:20260701T170000Z
DTEND:20260701T183000Z
SUMMARY:Beckenbodenkurs online
DESCRIPTION:Der Online-Kurs auf Schweizerdeutsch stärkt den Beckenboden von Frauen jeden Alters flexibel und wirkungsvoll im Alltag.\n\nhttps://eventfrog.de/de/p/gesundheit-spiritualitaet/gesundheit-wohlbefinden/beckenbodenkurs-online-7452761658596822833.html
LOCATION:Via Zoom
URL:https://eventfrog.de/de/p/gesundheit-spiritualitaet/gesundheit-wohlbefinden/beckenbodenkurs-online-7452761658596822833.html
END:VEVENT
END:VCALENDAR