BEGIN:VCALENDAR
VERSION:2.0
PRODID:EVENTFROG//EVENTGROUP//ICAL
BEGIN:VEVENT
UID:20260424T110137Z-7452809766496151973@eventfrog.de
DTSTAMP:20260424T110137Z
DTSTART:20260613T160000Z
DTEND:20260613T180000Z
SUMMARY:Amelies Reise
DESCRIPTION:Die Tanz- und Ballettschule Birmensdorf zeigt eine Aufführung über Amelies Reise durch Träume, Kulturen und das eigene Ich.\n\nhttps://eventfrog.de/de/p/theater-buehne/tanz/amelies-reise-7452809766496151973.html
LOCATION:Gemeindezentrum Brüelmatt
GEO:47.353667;8.439233
URL:https://eventfrog.de/de/p/theater-buehne/tanz/amelies-reise-7452809766496151973.html
END:VEVENT
BEGIN:VEVENT
UID:20260424T110137Z-7452813123520576620@eventfrog.de
DTSTAMP:20260424T110137Z
DTSTART:20260614T130000Z
DTEND:20260614T150000Z
SUMMARY:Amelies Reise
DESCRIPTION:Die Tanz- und Ballettschule Birmensdorf zeigt eine Aufführung über Amelies Reise durch Träume, Kulturen und das eigene Ich.\n\nhttps://eventfrog.de/de/p/theater-buehne/tanz/amelies-reise-7452813123520576620.html
LOCATION:Gemeindezentrum Brüelmatt
GEO:47.353667;8.439233
URL:https://eventfrog.de/de/p/theater-buehne/tanz/amelies-reise-7452813123520576620.html
END:VEVENT
END:VCALENDAR