BEGIN:VCALENDAR
VERSION:2.0
PRODID:EVENTFROG//EVENTGROUP//ICAL
BEGIN:VEVENT
UID:20260424T091221Z-7453036121116698667@eventfrog.de
DTSTAMP:20260424T091221Z
DTSTART:20260501T150000Z
DTEND:20260501T190000Z
SUMMARY:FIRST FRIDAY
DESCRIPTION:Mellingens Altstadt wird am ersten Freitag im Mai, Juni, Juli und September von 17-21 Uhr mit Kunst, Musik, besonderen Aktionen, Attraktionen und Kulinarik belebt.\n\nhttps://eventfrog.de/de/p/diverses/first-friday-7453036121116698667.html
LOCATION:Altstadt Mellingen
GEO:47.418515;8.273224
URL:https://eventfrog.de/de/p/diverses/first-friday-7453036121116698667.html
END:VEVENT
BEGIN:VEVENT
UID:20260424T091221Z-7453036192973517562@eventfrog.de
DTSTAMP:20260424T091221Z
DTSTART:20260605T150000Z
DTEND:20260605T190000Z
SUMMARY:FIRST FRIDAY
DESCRIPTION:Mellingens Altstadt wird am ersten Freitag im Mai, Juni, Juli und September von 17-21 Uhr mit Kunst, Musik, besonderen Aktionen, Attraktionen und Kulinarik belebt.\n\nhttps://eventfrog.de/de/p/diverses/first-friday-7453036192973517562.html
LOCATION:Altstadt Mellingen
GEO:47.418515;8.273224
URL:https://eventfrog.de/de/p/diverses/first-friday-7453036192973517562.html
END:VEVENT
BEGIN:VEVENT
UID:20260424T091221Z-7453036193212593530@eventfrog.de
DTSTAMP:20260424T091221Z
DTSTART:20260703T150000Z
DTEND:20260703T190000Z
SUMMARY:FIRST FRIDAY
DESCRIPTION:Mellingens Altstadt wird am ersten Freitag im Mai, Juni, Juli und September von 17-21 Uhr mit Kunst, Musik, besonderen Aktionen, Attraktionen und Kulinarik belebt.\n\nhttps://eventfrog.de/de/p/diverses/first-friday-7453036193212593530.html
LOCATION:Altstadt Mellingen
GEO:47.418515;8.273224
URL:https://eventfrog.de/de/p/diverses/first-friday-7453036193212593530.html
END:VEVENT
BEGIN:VEVENT
UID:20260424T091221Z-7453036193334228390@eventfrog.de
DTSTAMP:20260424T091221Z
DTSTART:20260904T150000Z
DTEND:20260904T190000Z
SUMMARY:FIRST FRIDAY
DESCRIPTION:Mellingens Altstadt wird am ersten Freitag im Mai, Juni, Juli und September von 17-21 Uhr mit Kunst, Musik, besonderen Aktionen, Attraktionen und Kulinarik belebt.\n\nhttps://eventfrog.de/de/p/diverses/first-friday-7453036193334228390.html
LOCATION:Altstadt Mellingen
GEO:47.418515;8.273224
URL:https://eventfrog.de/de/p/diverses/first-friday-7453036193334228390.html
END:VEVENT
END:VCALENDAR