BEGIN:VCALENDAR
VERSION:2.0
PRODID:EVENTFROG//EVENTGROUP//ICAL
BEGIN:VEVENT
UID:20260424T065631Z-7453051897693340746@eventfrog.de
DTSTAMP:20260424T065631Z
DTSTART:20261020T180000Z
SUMMARY:Förnbacher Theater goes Spalebärg - Loriot
DESCRIPTION:Tauchen Sie mit uns ein in eine wunderbare, von Loriot geprägte, Kino- und Fernseh-Ära. Präsentiert in einer fulminanten Förnbacher-Theaterproduktion.\n\nhttps://eventfrog.de/de/p/theater-buehne/buehnenveranstaltung/foernbacher-theater-goes-spalebaerg-loriot-7453051897693340746.html
LOCATION:Theater Fauteuil - Tabourettli
GEO:47.557349;7.586407
URL:https://eventfrog.de/de/p/theater-buehne/buehnenveranstaltung/foernbacher-theater-goes-spalebaerg-loriot-7453051897693340746.html
END:VEVENT
BEGIN:VEVENT
UID:20260424T065631Z-7453051954270310406@eventfrog.de
DTSTAMP:20260424T065631Z
DTSTART:20261216T190000Z
SUMMARY:Förnbacher Theater goes Spalebärg - Loriot
DESCRIPTION:Tauchen Sie mit uns ein in eine wunderbare, von Loriot geprägte, Kino- und Fernseh-Ära. Präsentiert in einer fulminanten Förnbacher-Theaterproduktion.\n\nhttps://eventfrog.de/de/p/theater-buehne/buehnenveranstaltung/foernbacher-theater-goes-spalebaerg-loriot-7453051954270310406.html
LOCATION:Theater Fauteuil - Tabourettli
GEO:47.557349;7.586407
URL:https://eventfrog.de/de/p/theater-buehne/buehnenveranstaltung/foernbacher-theater-goes-spalebaerg-loriot-7453051954270310406.html
END:VEVENT
END:VCALENDAR