BEGIN:VCALENDAR
VERSION:2.0
PRODID:EVENTFROG//EVENTGROUP//ICAL
BEGIN:VEVENT
UID:20260425T040824Z-7444741165360909503@eventfrog.de
DTSTAMP:20260425T040824Z
DTSTART:20260920T160000Z
DTEND:20260920T210000Z
SUMMARY:Ritmo Habana (Salsa & Bachata)
DESCRIPTION:RITMO HABANA by DJ Theo\n\nJeden Sonntag:\nSALSA & BACHATA ALL STYLES\n\nEintritt CHF 10.–\n18.00 Uhr bis 23.00 Uhr\n\nhttps://eventfrog.de/de/p/diverses/ritmo-habana-salsa-bachata-7444741165360909503.html
LOCATION:Moderne Bar & Karussell
GEO:47.048440;8.306079
URL:https://eventfrog.de/de/p/diverses/ritmo-habana-salsa-bachata-7444741165360909503.html
END:VEVENT
BEGIN:VEVENT
UID:20260425T040824Z-7444741199276054306@eventfrog.de
DTSTAMP:20260425T040824Z
DTSTART:20260920T160000Z
DTEND:20260920T210000Z
SUMMARY:Ritmo Habana (Salsa & Bachata)
DESCRIPTION:RITMO HABANA by DJ Theo\n\nJeden Sonntag:\nSALSA & BACHATA ALL STYLES\n\nEintritt CHF 10.–\n18.00 Uhr bis 23.00 Uhr\n\nhttps://eventfrog.de/de/p/diverses/ritmo-habana-salsa-bachata-7444741199276054306.html
LOCATION:Moderne Bar & Karussell
GEO:47.048440;8.306079
URL:https://eventfrog.de/de/p/diverses/ritmo-habana-salsa-bachata-7444741199276054306.html
END:VEVENT
BEGIN:VEVENT
UID:20260425T040824Z-7444741199997475220@eventfrog.de
DTSTAMP:20260425T040824Z
DTSTART:20260927T160000Z
DTEND:20260927T210000Z
SUMMARY:Ritmo Habana (Salsa & Bachata)
DESCRIPTION:RITMO HABANA by DJ Theo\n\nJeden Sonntag:\nSALSA & BACHATA ALL STYLES\n\nEintritt CHF 10.–\n18.00 Uhr bis 23.00 Uhr\n\nhttps://eventfrog.de/de/p/diverses/ritmo-habana-salsa-bachata-7444741199997475220.html
LOCATION:Moderne Bar & Karussell
GEO:47.048440;8.306079
URL:https://eventfrog.de/de/p/diverses/ritmo-habana-salsa-bachata-7444741199997475220.html
END:VEVENT
BEGIN:VEVENT
UID:20260425T040824Z-7444741200223967747@eventfrog.de
DTSTAMP:20260425T040824Z
DTSTART:20261004T160000Z
DTEND:20261004T210000Z
SUMMARY:Ritmo Habana (Salsa & Bachata)
DESCRIPTION:RITMO HABANA by DJ Theo\n\nJeden Sonntag:\nSALSA & BACHATA ALL STYLES\n\nEintritt CHF 10.–\n18.00 Uhr bis 23.00 Uhr\n\nhttps://eventfrog.de/de/p/diverses/ritmo-habana-salsa-bachata-7444741200223967747.html
LOCATION:Moderne Bar & Karussell
GEO:47.048440;8.306079
URL:https://eventfrog.de/de/p/diverses/ritmo-habana-salsa-bachata-7444741200223967747.html
END:VEVENT
BEGIN:VEVENT
UID:20260425T040824Z-7444741200404322827@eventfrog.de
DTSTAMP:20260425T040824Z
DTSTART:20261011T160000Z
DTEND:20261011T210000Z
SUMMARY:Ritmo Habana (Salsa & Bachata)
DESCRIPTION:RITMO HABANA by DJ Theo\n\nJeden Sonntag:\nSALSA & BACHATA ALL STYLES\n\nEintritt CHF 10.–\n18.00 Uhr bis 23.00 Uhr\n\nhttps://eventfrog.de/de/p/diverses/ritmo-habana-salsa-bachata-7444741200404322827.html
LOCATION:Moderne Bar & Karussell
GEO:47.048440;8.306079
URL:https://eventfrog.de/de/p/diverses/ritmo-habana-salsa-bachata-7444741200404322827.html
END:VEVENT
BEGIN:VEVENT
UID:20260425T040824Z-7444741200563706381@eventfrog.de
DTSTAMP:20260425T040824Z
DTSTART:20261018T160000Z
DTEND:20261018T210000Z
SUMMARY:Ritmo Habana (Salsa & Bachata)
DESCRIPTION:RITMO HABANA by DJ Theo\n\nJeden Sonntag:\nSALSA & BACHATA ALL STYLES\n\nEintritt CHF 10.–\n18.00 Uhr bis 23.00 Uhr\n\nhttps://eventfrog.de/de/p/diverses/ritmo-habana-salsa-bachata-7444741200563706381.html
LOCATION:Moderne Bar & Karussell
GEO:47.048440;8.306079
URL:https://eventfrog.de/de/p/diverses/ritmo-habana-salsa-bachata-7444741200563706381.html
END:VEVENT
BEGIN:VEVENT
UID:20260425T040824Z-7444741200765033055@eventfrog.de
DTSTAMP:20260425T040824Z
DTSTART:20261025T170000Z
DTEND:20261025T220000Z
SUMMARY:Ritmo Habana (Salsa & Bachata)
DESCRIPTION:RITMO HABANA by DJ Theo\n\nJeden Sonntag:\nSALSA & BACHATA ALL STYLES\n\nEintritt CHF 10.–\n18.00 Uhr bis 23.00 Uhr\n\nhttps://eventfrog.de/de/p/diverses/ritmo-habana-salsa-bachata-7444741200765033055.html
LOCATION:Moderne Bar & Karussell
GEO:47.048440;8.306079
URL:https://eventfrog.de/de/p/diverses/ritmo-habana-salsa-bachata-7444741200765033055.html
END:VEVENT
BEGIN:VEVENT
UID:20260425T040824Z-7444741200899250786@eventfrog.de
DTSTAMP:20260425T040824Z
DTSTART:20261101T170000Z
DTEND:20261101T220000Z
SUMMARY:Ritmo Habana (Salsa & Bachata)
DESCRIPTION:RITMO HABANA by DJ Theo\n\nJeden Sonntag:\nSALSA & BACHATA ALL STYLES\n\nEintritt CHF 10.–\n18.00 Uhr bis 23.00 Uhr\n\nhttps://eventfrog.de/de/p/diverses/ritmo-habana-salsa-bachata-7444741200899250786.html
LOCATION:Moderne Bar & Karussell
GEO:47.048440;8.306079
URL:https://eventfrog.de/de/p/diverses/ritmo-habana-salsa-bachata-7444741200899250786.html
END:VEVENT
BEGIN:VEVENT
UID:20260425T040824Z-7444741201062828644@eventfrog.de
DTSTAMP:20260425T040824Z
DTSTART:20261108T170000Z
DTEND:20261108T220000Z
SUMMARY:Ritmo Habana (Salsa & Bachata)
DESCRIPTION:RITMO HABANA by DJ Theo\n\nJeden Sonntag:\nSALSA & BACHATA ALL STYLES\n\nEintritt CHF 10.–\n18.00 Uhr bis 23.00 Uhr\n\nhttps://eventfrog.de/de/p/diverses/ritmo-habana-salsa-bachata-7444741201062828644.html
LOCATION:Moderne Bar & Karussell
GEO:47.048440;8.306079
URL:https://eventfrog.de/de/p/diverses/ritmo-habana-salsa-bachata-7444741201062828644.html
END:VEVENT
BEGIN:VEVENT
UID:20260425T040824Z-7444741201192852070@eventfrog.de
DTSTAMP:20260425T040824Z
DTSTART:20261115T170000Z
DTEND:20261115T220000Z
SUMMARY:Ritmo Habana (Salsa & Bachata)
DESCRIPTION:RITMO HABANA by DJ Theo\n\nJeden Sonntag:\nSALSA & BACHATA ALL STYLES\n\nEintritt CHF 10.–\n18.00 Uhr bis 23.00 Uhr\n\nhttps://eventfrog.de/de/p/diverses/ritmo-habana-salsa-bachata-7444741201192852070.html
LOCATION:Moderne Bar & Karussell
GEO:47.048440;8.306079
URL:https://eventfrog.de/de/p/diverses/ritmo-habana-salsa-bachata-7444741201192852070.html
END:VEVENT
BEGIN:VEVENT
UID:20260425T040824Z-7444741201318681204@eventfrog.de
DTSTAMP:20260425T040824Z
DTSTART:20261122T170000Z
DTEND:20261122T220000Z
SUMMARY:Ritmo Habana (Salsa & Bachata)
DESCRIPTION:RITMO HABANA by DJ Theo\n\nJeden Sonntag:\nSALSA & BACHATA ALL STYLES\n\nEintritt CHF 10.–\n18.00 Uhr bis 23.00 Uhr\n\nhttps://eventfrog.de/de/p/diverses/ritmo-habana-salsa-bachata-7444741201318681204.html
LOCATION:Moderne Bar & Karussell
GEO:47.048440;8.306079
URL:https://eventfrog.de/de/p/diverses/ritmo-habana-salsa-bachata-7444741201318681204.html
END:VEVENT
BEGIN:VEVENT
UID:20260425T040824Z-7444741201511619190@eventfrog.de
DTSTAMP:20260425T040824Z
DTSTART:20261129T170000Z
DTEND:20261129T220000Z
SUMMARY:Ritmo Habana (Salsa & Bachata)
DESCRIPTION:RITMO HABANA by DJ Theo\n\nJeden Sonntag:\nSALSA & BACHATA ALL STYLES\n\nEintritt CHF 10.–\n18.00 Uhr bis 23.00 Uhr\n\nhttps://eventfrog.de/de/p/diverses/ritmo-habana-salsa-bachata-7444741201511619190.html
LOCATION:Moderne Bar & Karussell
GEO:47.048440;8.306079
URL:https://eventfrog.de/de/p/diverses/ritmo-habana-salsa-bachata-7444741201511619190.html
END:VEVENT
BEGIN:VEVENT
UID:20260425T040824Z-7444741201708751480@eventfrog.de
DTSTAMP:20260425T040824Z
DTSTART:20261206T170000Z
DTEND:20261206T220000Z
SUMMARY:Ritmo Habana (Salsa & Bachata)
DESCRIPTION:RITMO HABANA by DJ Theo\n\nJeden Sonntag:\nSALSA & BACHATA ALL STYLES\n\nEintritt CHF 10.–\n18.00 Uhr bis 23.00 Uhr\n\nhttps://eventfrog.de/de/p/diverses/ritmo-habana-salsa-bachata-7444741201708751480.html
LOCATION:Moderne Bar & Karussell
GEO:47.048440;8.306079
URL:https://eventfrog.de/de/p/diverses/ritmo-habana-salsa-bachata-7444741201708751480.html
END:VEVENT
BEGIN:VEVENT
UID:20260425T040824Z-7444741201918466682@eventfrog.de
DTSTAMP:20260425T040824Z
DTSTART:20261213T170000Z
DTEND:20261213T220000Z
SUMMARY:Ritmo Habana (Salsa & Bachata)
DESCRIPTION:RITMO HABANA by DJ Theo\n\nJeden Sonntag:\nSALSA & BACHATA ALL STYLES\n\nEintritt CHF 10.–\n18.00 Uhr bis 23.00 Uhr\n\nhttps://eventfrog.de/de/p/diverses/ritmo-habana-salsa-bachata-7444741201918466682.html
LOCATION:Moderne Bar & Karussell
GEO:47.048440;8.306079
URL:https://eventfrog.de/de/p/diverses/ritmo-habana-salsa-bachata-7444741201918466682.html
END:VEVENT
BEGIN:VEVENT
UID:20260425T040824Z-7444741202103016062@eventfrog.de
DTSTAMP:20260425T040824Z
DTSTART:20261220T170000Z
DTEND:20261220T220000Z
SUMMARY:Ritmo Habana (Salsa & Bachata)
DESCRIPTION:RITMO HABANA by DJ Theo\n\nJeden Sonntag:\nSALSA & BACHATA ALL STYLES\n\nEintritt CHF 10.–\n18.00 Uhr bis 23.00 Uhr\n\nhttps://eventfrog.de/de/p/diverses/ritmo-habana-salsa-bachata-7444741202103016062.html
LOCATION:Moderne Bar & Karussell
GEO:47.048440;8.306079
URL:https://eventfrog.de/de/p/diverses/ritmo-habana-salsa-bachata-7444741202103016062.html
END:VEVENT
BEGIN:VEVENT
UID:20260425T040824Z-7444741202254011008@eventfrog.de
DTSTAMP:20260425T040824Z
DTSTART:20261227T170000Z
DTEND:20261227T220000Z
SUMMARY:Ritmo Habana (Salsa & Bachata)
DESCRIPTION:RITMO HABANA by DJ Theo\n\nJeden Sonntag:\nSALSA & BACHATA ALL STYLES\n\nEintritt CHF 10.–\n18.00 Uhr bis 23.00 Uhr\n\nhttps://eventfrog.de/de/p/diverses/ritmo-habana-salsa-bachata-7444741202254011008.html
LOCATION:Moderne Bar & Karussell
GEO:47.048440;8.306079
URL:https://eventfrog.de/de/p/diverses/ritmo-habana-salsa-bachata-7444741202254011008.html
END:VEVENT
BEGIN:VEVENT
UID:20260425T040824Z-7444741202405005954@eventfrog.de
DTSTAMP:20260425T040824Z
DTSTART:20270103T170000Z
DTEND:20270103T220000Z
SUMMARY:Ritmo Habana (Salsa & Bachata)
DESCRIPTION:RITMO HABANA by DJ Theo\n\nJeden Sonntag:\nSALSA & BACHATA ALL STYLES\n\nEintritt CHF 10.–\n18.00 Uhr bis 23.00 Uhr\n\nhttps://eventfrog.de/de/p/diverses/ritmo-habana-salsa-bachata-7444741202405005954.html
LOCATION:Moderne Bar & Karussell
GEO:47.048440;8.306079
URL:https://eventfrog.de/de/p/diverses/ritmo-habana-salsa-bachata-7444741202405005954.html
END:VEVENT
BEGIN:VEVENT
UID:20260425T040824Z-7444741202551806596@eventfrog.de
DTSTAMP:20260425T040824Z
DTSTART:20270110T170000Z
DTEND:20270110T220000Z
SUMMARY:Ritmo Habana (Salsa & Bachata)
DESCRIPTION:RITMO HABANA by DJ Theo\n\nJeden Sonntag:\nSALSA & BACHATA ALL STYLES\n\nEintritt CHF 10.–\n18.00 Uhr bis 23.00 Uhr\n\nhttps://eventfrog.de/de/p/diverses/ritmo-habana-salsa-bachata-7444741202551806596.html
LOCATION:Moderne Bar & Karussell
GEO:47.048440;8.306079
URL:https://eventfrog.de/de/p/diverses/ritmo-habana-salsa-bachata-7444741202551806596.html
END:VEVENT
BEGIN:VEVENT
UID:20260425T040824Z-7444741202719578758@eventfrog.de
DTSTAMP:20260425T040824Z
DTSTART:20270117T170000Z
DTEND:20270117T220000Z
SUMMARY:Ritmo Habana (Salsa & Bachata)
DESCRIPTION:RITMO HABANA by DJ Theo\n\nJeden Sonntag:\nSALSA & BACHATA ALL STYLES\n\nEintritt CHF 10.–\n18.00 Uhr bis 23.00 Uhr\n\nhttps://eventfrog.de/de/p/diverses/ritmo-habana-salsa-bachata-7444741202719578758.html
LOCATION:Moderne Bar & Karussell
GEO:47.048440;8.306079
URL:https://eventfrog.de/de/p/diverses/ritmo-habana-salsa-bachata-7444741202719578758.html
END:VEVENT
BEGIN:VEVENT
UID:20260425T040824Z-7444741202925099669@eventfrog.de
DTSTAMP:20260425T040824Z
DTSTART:20270124T170000Z
DTEND:20270124T220000Z
SUMMARY:Ritmo Habana (Salsa & Bachata)
DESCRIPTION:RITMO HABANA by DJ Theo\n\nJeden Sonntag:\nSALSA & BACHATA ALL STYLES\n\nEintritt CHF 10.–\n18.00 Uhr bis 23.00 Uhr\n\nhttps://eventfrog.de/de/p/diverses/ritmo-habana-salsa-bachata-7444741202925099669.html
LOCATION:Moderne Bar & Karussell
GEO:47.048440;8.306079
URL:https://eventfrog.de/de/p/diverses/ritmo-habana-salsa-bachata-7444741202925099669.html
END:VEVENT
BEGIN:VEVENT
UID:20260425T040824Z-7444741203164174999@eventfrog.de
DTSTAMP:20260425T040824Z
DTSTART:20270131T170000Z
DTEND:20270131T220000Z
SUMMARY:Ritmo Habana (Salsa & Bachata)
DESCRIPTION:RITMO HABANA by DJ Theo\n\nJeden Sonntag:\nSALSA & BACHATA ALL STYLES\n\nEintritt CHF 10.–\n18.00 Uhr bis 23.00 Uhr\n\nhttps://eventfrog.de/de/p/diverses/ritmo-habana-salsa-bachata-7444741203164174999.html
LOCATION:Moderne Bar & Karussell
GEO:47.048440;8.306079
URL:https://eventfrog.de/de/p/diverses/ritmo-habana-salsa-bachata-7444741203164174999.html
END:VEVENT
BEGIN:VEVENT
UID:20260425T040824Z-7444741203352918693@eventfrog.de
DTSTAMP:20260425T040824Z
DTSTART:20270207T170000Z
DTEND:20270207T220000Z
SUMMARY:Ritmo Habana (Salsa & Bachata)
DESCRIPTION:RITMO HABANA by DJ Theo\n\nJeden Sonntag:\nSALSA & BACHATA ALL STYLES\n\nEintritt CHF 10.–\n18.00 Uhr bis 23.00 Uhr\n\nhttps://eventfrog.de/de/p/diverses/ritmo-habana-salsa-bachata-7444741203352918693.html
LOCATION:Moderne Bar & Karussell
GEO:47.048440;8.306079
URL:https://eventfrog.de/de/p/diverses/ritmo-habana-salsa-bachata-7444741203352918693.html
END:VEVENT
BEGIN:VEVENT
UID:20260425T040824Z-7444741203524885169@eventfrog.de
DTSTAMP:20260425T040824Z
DTSTART:20270214T170000Z
DTEND:20270214T220000Z
SUMMARY:Ritmo Habana (Salsa & Bachata)
DESCRIPTION:RITMO HABANA by DJ Theo\n\nJeden Sonntag:\nSALSA & BACHATA ALL STYLES\n\nEintritt CHF 10.–\n18.00 Uhr bis 23.00 Uhr\n\nhttps://eventfrog.de/de/p/diverses/ritmo-habana-salsa-bachata-7444741203524885169.html
LOCATION:Moderne Bar & Karussell
GEO:47.048440;8.306079
URL:https://eventfrog.de/de/p/diverses/ritmo-habana-salsa-bachata-7444741203524885169.html
END:VEVENT
BEGIN:VEVENT
UID:20260425T040824Z-7444741203684268768@eventfrog.de
DTSTAMP:20260425T040824Z
DTSTART:20270221T170000Z
DTEND:20270221T220000Z
SUMMARY:Ritmo Habana (Salsa & Bachata)
DESCRIPTION:RITMO HABANA by DJ Theo\n\nJeden Sonntag:\nSALSA & BACHATA ALL STYLES\n\nEintritt CHF 10.–\n18.00 Uhr bis 23.00 Uhr\n\nhttps://eventfrog.de/de/p/diverses/ritmo-habana-salsa-bachata-7444741203684268768.html
LOCATION:Moderne Bar & Karussell
GEO:47.048440;8.306079
URL:https://eventfrog.de/de/p/diverses/ritmo-habana-salsa-bachata-7444741203684268768.html
END:VEVENT
BEGIN:VEVENT
UID:20260425T040824Z-7444741203847846671@eventfrog.de
DTSTAMP:20260425T040824Z
DTSTART:20270228T170000Z
DTEND:20270228T220000Z
SUMMARY:Ritmo Habana (Salsa & Bachata)
DESCRIPTION:RITMO HABANA by DJ Theo\n\nJeden Sonntag:\nSALSA & BACHATA ALL STYLES\n\nEintritt CHF 10.–\n18.00 Uhr bis 23.00 Uhr\n\nhttps://eventfrog.de/de/p/diverses/ritmo-habana-salsa-bachata-7444741203847846671.html
LOCATION:Moderne Bar & Karussell
GEO:47.048440;8.306079
URL:https://eventfrog.de/de/p/diverses/ritmo-habana-salsa-bachata-7444741203847846671.html
END:VEVENT
BEGIN:VEVENT
UID:20260425T040824Z-7444741204019813157@eventfrog.de
DTSTAMP:20260425T040824Z
DTSTART:20270307T170000Z
DTEND:20270307T220000Z
SUMMARY:Ritmo Habana (Salsa & Bachata)
DESCRIPTION:RITMO HABANA by DJ Theo\n\nJeden Sonntag:\nSALSA & BACHATA ALL STYLES\n\nEintritt CHF 10.–\n18.00 Uhr bis 23.00 Uhr\n\nhttps://eventfrog.de/de/p/diverses/ritmo-habana-salsa-bachata-7444741204019813157.html
LOCATION:Moderne Bar & Karussell
GEO:47.048440;8.306079
URL:https://eventfrog.de/de/p/diverses/ritmo-habana-salsa-bachata-7444741204019813157.html
END:VEVENT
BEGIN:VEVENT
UID:20260425T040824Z-7444741204158225235@eventfrog.de
DTSTAMP:20260425T040824Z
DTSTART:20270314T170000Z
DTEND:20270314T220000Z
SUMMARY:Ritmo Habana (Salsa & Bachata)
DESCRIPTION:RITMO HABANA by DJ Theo\n\nJeden Sonntag:\nSALSA & BACHATA ALL STYLES\n\nEintritt CHF 10.–\n18.00 Uhr bis 23.00 Uhr\n\nhttps://eventfrog.de/de/p/diverses/ritmo-habana-salsa-bachata-7444741204158225235.html
LOCATION:Moderne Bar & Karussell
GEO:47.048440;8.306079
URL:https://eventfrog.de/de/p/diverses/ritmo-habana-salsa-bachata-7444741204158225235.html
END:VEVENT
BEGIN:VEVENT
UID:20260425T040824Z-7444741204313414485@eventfrog.de
DTSTAMP:20260425T040824Z
DTSTART:20270321T170000Z
DTEND:20270321T220000Z
SUMMARY:Ritmo Habana (Salsa & Bachata)
DESCRIPTION:RITMO HABANA by DJ Theo\n\nJeden Sonntag:\nSALSA & BACHATA ALL STYLES\n\nEintritt CHF 10.–\n18.00 Uhr bis 23.00 Uhr\n\nhttps://eventfrog.de/de/p/diverses/ritmo-habana-salsa-bachata-7444741204313414485.html
LOCATION:Moderne Bar & Karussell
GEO:47.048440;8.306079
URL:https://eventfrog.de/de/p/diverses/ritmo-habana-salsa-bachata-7444741204313414485.html
END:VEVENT
BEGIN:VEVENT
UID:20260425T040824Z-7444741204439243607@eventfrog.de
DTSTAMP:20260425T040824Z
DTSTART:20270328T160000Z
DTEND:20270328T210000Z
SUMMARY:Ritmo Habana (Salsa & Bachata)
DESCRIPTION:RITMO HABANA by DJ Theo\n\nJeden Sonntag:\nSALSA & BACHATA ALL STYLES\n\nEintritt CHF 10.–\n18.00 Uhr bis 23.00 Uhr\n\nhttps://eventfrog.de/de/p/diverses/ritmo-habana-salsa-bachata-7444741204439243607.html
LOCATION:Moderne Bar & Karussell
GEO:47.048440;8.306079
URL:https://eventfrog.de/de/p/diverses/ritmo-habana-salsa-bachata-7444741204439243607.html
END:VEVENT
BEGIN:VEVENT
UID:20260425T040824Z-7444741204590238634@eventfrog.de
DTSTAMP:20260425T040824Z
DTSTART:20270404T160000Z
DTEND:20270404T210000Z
SUMMARY:Ritmo Habana (Salsa & Bachata)
DESCRIPTION:RITMO HABANA by DJ Theo\n\nJeden Sonntag:\nSALSA & BACHATA ALL STYLES\n\nEintritt CHF 10.–\n18.00 Uhr bis 23.00 Uhr\n\nhttps://eventfrog.de/de/p/diverses/ritmo-habana-salsa-bachata-7444741204590238634.html
LOCATION:Moderne Bar & Karussell
GEO:47.048440;8.306079
URL:https://eventfrog.de/de/p/diverses/ritmo-habana-salsa-bachata-7444741204590238634.html
END:VEVENT
BEGIN:VEVENT
UID:20260425T040824Z-7444741204783176701@eventfrog.de
DTSTAMP:20260425T040824Z
DTSTART:20270411T160000Z
DTEND:20270411T210000Z
SUMMARY:Ritmo Habana (Salsa & Bachata)
DESCRIPTION:RITMO HABANA by DJ Theo\n\nJeden Sonntag:\nSALSA & BACHATA ALL STYLES\n\nEintritt CHF 10.–\n18.00 Uhr bis 23.00 Uhr\n\nhttps://eventfrog.de/de/p/diverses/ritmo-habana-salsa-bachata-7444741204783176701.html
LOCATION:Moderne Bar & Karussell
GEO:47.048440;8.306079
URL:https://eventfrog.de/de/p/diverses/ritmo-habana-salsa-bachata-7444741204783176701.html
END:VEVENT
BEGIN:VEVENT
UID:20260425T040824Z-7444741204976114689@eventfrog.de
DTSTAMP:20260425T040824Z
DTSTART:20270418T160000Z
DTEND:20270418T210000Z
SUMMARY:Ritmo Habana (Salsa & Bachata)
DESCRIPTION:RITMO HABANA by DJ Theo\n\nJeden Sonntag:\nSALSA & BACHATA ALL STYLES\n\nEintritt CHF 10.–\n18.00 Uhr bis 23.00 Uhr\n\nhttps://eventfrog.de/de/p/diverses/ritmo-habana-salsa-bachata-7444741204976114689.html
LOCATION:Moderne Bar & Karussell
GEO:47.048440;8.306079
URL:https://eventfrog.de/de/p/diverses/ritmo-habana-salsa-bachata-7444741204976114689.html
END:VEVENT
BEGIN:VEVENT
UID:20260425T040824Z-7444741205244550271@eventfrog.de
DTSTAMP:20260425T040824Z
DTSTART:20270425T160000Z
DTEND:20270425T210000Z
SUMMARY:Ritmo Habana (Salsa & Bachata)
DESCRIPTION:RITMO HABANA by DJ Theo\n\nJeden Sonntag:\nSALSA & BACHATA ALL STYLES\n\nEintritt CHF 10.–\n18.00 Uhr bis 23.00 Uhr\n\nhttps://eventfrog.de/de/p/diverses/ritmo-habana-salsa-bachata-7444741205244550271.html
LOCATION:Moderne Bar & Karussell
GEO:47.048440;8.306079
URL:https://eventfrog.de/de/p/diverses/ritmo-habana-salsa-bachata-7444741205244550271.html
END:VEVENT
BEGIN:VEVENT
UID:20260425T040824Z-7444741205408128129@eventfrog.de
DTSTAMP:20260425T040824Z
DTSTART:20270502T160000Z
DTEND:20270502T210000Z
SUMMARY:Ritmo Habana (Salsa & Bachata)
DESCRIPTION:RITMO HABANA by DJ Theo\n\nJeden Sonntag:\nSALSA & BACHATA ALL STYLES\n\nEintritt CHF 10.–\n18.00 Uhr bis 23.00 Uhr\n\nhttps://eventfrog.de/de/p/diverses/ritmo-habana-salsa-bachata-7444741205408128129.html
LOCATION:Moderne Bar & Karussell
GEO:47.048440;8.306079
URL:https://eventfrog.de/de/p/diverses/ritmo-habana-salsa-bachata-7444741205408128129.html
END:VEVENT
BEGIN:VEVENT
UID:20260425T040824Z-7444741205575900291@eventfrog.de
DTSTAMP:20260425T040824Z
DTSTART:20270509T160000Z
DTEND:20270509T210000Z
SUMMARY:Ritmo Habana (Salsa & Bachata)
DESCRIPTION:RITMO HABANA by DJ Theo\n\nJeden Sonntag:\nSALSA & BACHATA ALL STYLES\n\nEintritt CHF 10.–\n18.00 Uhr bis 23.00 Uhr\n\nhttps://eventfrog.de/de/p/diverses/ritmo-habana-salsa-bachata-7444741205575900291.html
LOCATION:Moderne Bar & Karussell
GEO:47.048440;8.306079
URL:https://eventfrog.de/de/p/diverses/ritmo-habana-salsa-bachata-7444741205575900291.html
END:VEVENT
BEGIN:VEVENT
UID:20260425T040824Z-7444741205739478149@eventfrog.de
DTSTAMP:20260425T040824Z
DTSTART:20270516T160000Z
DTEND:20270516T210000Z
SUMMARY:Ritmo Habana (Salsa & Bachata)
DESCRIPTION:RITMO HABANA by DJ Theo\n\nJeden Sonntag:\nSALSA & BACHATA ALL STYLES\n\nEintritt CHF 10.–\n18.00 Uhr bis 23.00 Uhr\n\nhttps://eventfrog.de/de/p/diverses/ritmo-habana-salsa-bachata-7444741205739478149.html
LOCATION:Moderne Bar & Karussell
GEO:47.048440;8.306079
URL:https://eventfrog.de/de/p/diverses/ritmo-habana-salsa-bachata-7444741205739478149.html
END:VEVENT
BEGIN:VEVENT
UID:20260425T040824Z-7444741205919833223@eventfrog.de
DTSTAMP:20260425T040824Z
DTSTART:20270523T160000Z
DTEND:20270523T210000Z
SUMMARY:Ritmo Habana (Salsa & Bachata)
DESCRIPTION:RITMO HABANA by DJ Theo\n\nJeden Sonntag:\nSALSA & BACHATA ALL STYLES\n\nEintritt CHF 10.–\n18.00 Uhr bis 23.00 Uhr\n\nhttps://eventfrog.de/de/p/diverses/ritmo-habana-salsa-bachata-7444741205919833223.html
LOCATION:Moderne Bar & Karussell
GEO:47.048440;8.306079
URL:https://eventfrog.de/de/p/diverses/ritmo-habana-salsa-bachata-7444741205919833223.html
END:VEVENT
BEGIN:VEVENT
UID:20260425T040824Z-7444741206083411081@eventfrog.de
DTSTAMP:20260425T040824Z
DTSTART:20270530T160000Z
DTEND:20270530T210000Z
SUMMARY:Ritmo Habana (Salsa & Bachata)
DESCRIPTION:RITMO HABANA by DJ Theo\n\nJeden Sonntag:\nSALSA & BACHATA ALL STYLES\n\nEintritt CHF 10.–\n18.00 Uhr bis 23.00 Uhr\n\nhttps://eventfrog.de/de/p/diverses/ritmo-habana-salsa-bachata-7444741206083411081.html
LOCATION:Moderne Bar & Karussell
GEO:47.048440;8.306079
URL:https://eventfrog.de/de/p/diverses/ritmo-habana-salsa-bachata-7444741206083411081.html
END:VEVENT
END:VCALENDAR