BEGIN:VCALENDAR
VERSION:2.0
PRODID:EVENTFROG//EVENTGROUP//ICAL
BEGIN:VEVENT
UID:20260424T065546Z-7453107791642784352@eventfrog.de
DTSTAMP:20260424T065546Z
DTSTART:20260608T163000Z
DTEND:20260608T180000Z
SUMMARY:Held:innen des Alltags
DESCRIPTION:Generationentheaterprojekt\n\nhttps://eventfrog.de/de/p/theater-buehne/buehnenveranstaltung/held-innen-des-alltags-7453107791642784352.html
LOCATION:Aula Primarschule Rittergasse
GEO:47.555670;7.592404
URL:https://eventfrog.de/de/p/theater-buehne/buehnenveranstaltung/held-innen-des-alltags-7453107791642784352.html
END:VEVENT
BEGIN:VEVENT
UID:20260424T065546Z-7453108711797601385@eventfrog.de
DTSTAMP:20260424T065546Z
DTSTART:20260609T153000Z
DTEND:20260609T170000Z
SUMMARY:Held:innen des Alltags
DESCRIPTION:Generationentheaterprojekt\n\nhttps://eventfrog.de/de/p/theater-buehne/buehnenveranstaltung/held-innen-des-alltags-7453108711797601385.html
LOCATION:Aula Primarschule Rittergasse
GEO:47.555670;7.592404
URL:https://eventfrog.de/de/p/theater-buehne/buehnenveranstaltung/held-innen-des-alltags-7453108711797601385.html
END:VEVENT
BEGIN:VEVENT
UID:20260424T065546Z-7453108711864710250@eventfrog.de
DTSTAMP:20260424T065546Z
DTSTART:20260612T153000Z
DTEND:20260612T170000Z
SUMMARY:Held:innen des Alltags
DESCRIPTION:Generationentheaterprojekt\n\nhttps://eventfrog.de/de/p/theater-buehne/buehnenveranstaltung/held-innen-des-alltags-7453108711864710250.html
LOCATION:Aula Primarschule Rittergasse
GEO:47.555670;7.592404
URL:https://eventfrog.de/de/p/theater-buehne/buehnenveranstaltung/held-innen-des-alltags-7453108711864710250.html
END:VEVENT
END:VCALENDAR