BEGIN:VCALENDAR
VERSION:2.0
PRODID:EVENTFROG//EVENTGROUP//ICAL
BEGIN:VEVENT
UID:20260425T152645Z-7453225146670699314@eventfrog.de
DTSTAMP:20260425T152645Z
DTSTART:20260425T100000Z
DTEND:20260425T160000Z
SUMMARY:22. Große Bayerische Meerschweinchenschau
DESCRIPTION:Die Große Bayerische Meerschweinchenschau mit  Zubehör und lustigem Drumrum-für die ganze Familie!\nKinder mit selbstgemaltem Meerschweinchenbild kommen gratis rein. Die Bilder werden Teil der Ausstel\n\nhttps://eventfrog.de/de/p/freizeit-ausfluege/tier-und-naturerlebnisse/22-grosse-bayerische-meerschweinchenschau-7453225146670699314.html
LOCATION:Reitsberger Hof
GEO:48.113205;11.780930
URL:https://eventfrog.de/de/p/freizeit-ausfluege/tier-und-naturerlebnisse/22-grosse-bayerische-meerschweinchenschau-7453225146670699314.html
END:VEVENT
BEGIN:VEVENT
UID:20260425T152645Z-7453226169820833178@eventfrog.de
DTSTAMP:20260425T152645Z
DTSTART:20260426T080000Z
DTEND:20260426T130000Z
SUMMARY:22. Große Bayerische Meerschweinchenschau
DESCRIPTION:Die Große Bayerische Meerschweinchenschau mit  Zubehör und lustigem Drumrum-für die ganze Familie!\nKinder mit selbstgemaltem Meerschweinchenbild kommen gratis rein. Die Bilder werden Teil der Ausstel\n\nhttps://eventfrog.de/de/p/freizeit-ausfluege/tier-und-naturerlebnisse/22-grosse-bayerische-meerschweinchenschau-7453226169820833178.html
LOCATION:Reitsberger Hof
GEO:48.113205;11.780930
URL:https://eventfrog.de/de/p/freizeit-ausfluege/tier-und-naturerlebnisse/22-grosse-bayerische-meerschweinchenschau-7453226169820833178.html
END:VEVENT
END:VCALENDAR