BEGIN:VCALENDAR
VERSION:2.0
PRODID:EVENTFROG//EVENTGROUP//ICAL
BEGIN:VEVENT
UID:20260424T214054Z-7453438804977799534@eventfrog.de
DTSTAMP:20260424T214054Z
DTSTART:20260508T090000Z
DTEND:20260508T160000Z
SUMMARY:Sammlung Martin und Veronika Burckhardt
DESCRIPTION:Sammlung Martin und Veronika Burckhardt - Von privaten Schätzen und öffentlichem Engagement\nMit Werken der Erbengemeinschaft sowie aus dem Karl August Burckhardt-Koechlin-Fonds im Kupferstichkabinett\n\nhttps://eventfrog.de/de/p/kunst-ausstellungen/ausstellung/sammlung-martin-und-veronika-burckhardt-7453438804977799534.html
LOCATION:FOR ART - eine temporäre Kunstintervention von Littmann Kulturprojekte
GEO:47.555291;7.593660
URL:https://eventfrog.de/de/p/kunst-ausstellungen/ausstellung/sammlung-martin-und-veronika-burckhardt-7453438804977799534.html
END:VEVENT
BEGIN:VEVENT
UID:20260424T214054Z-7453438805044908400@eventfrog.de
DTSTAMP:20260424T214054Z
DTSTART:20260509T090000Z
DTEND:20260509T160000Z
SUMMARY:Sammlung Martin und Veronika Burckhardt
DESCRIPTION:Sammlung Martin und Veronika Burckhardt - Von privaten Schätzen und öffentlichem Engagement\nMit Werken der Erbengemeinschaft sowie aus dem Karl August Burckhardt-Koechlin-Fonds im Kupferstichkabinett\n\nhttps://eventfrog.de/de/p/kunst-ausstellungen/ausstellung/sammlung-martin-und-veronika-burckhardt-7453438805044908400.html
LOCATION:FOR ART - eine temporäre Kunstintervention von Littmann Kulturprojekte
GEO:47.555291;7.593660
URL:https://eventfrog.de/de/p/kunst-ausstellungen/ausstellung/sammlung-martin-und-veronika-burckhardt-7453438805044908400.html
END:VEVENT
BEGIN:VEVENT
UID:20260424T214054Z-7453438805107822962@eventfrog.de
DTSTAMP:20260424T214054Z
DTSTART:20260515T090000Z
DTEND:20260515T160000Z
SUMMARY:Sammlung Martin und Veronika Burckhardt
DESCRIPTION:Sammlung Martin und Veronika Burckhardt - Von privaten Schätzen und öffentlichem Engagement\nMit Werken der Erbengemeinschaft sowie aus dem Karl August Burckhardt-Koechlin-Fonds im Kupferstichkabinett\n\nhttps://eventfrog.de/de/p/kunst-ausstellungen/ausstellung/sammlung-martin-und-veronika-burckhardt-7453438805107822962.html
LOCATION:FOR ART - eine temporäre Kunstintervention von Littmann Kulturprojekte
GEO:47.555291;7.593660
URL:https://eventfrog.de/de/p/kunst-ausstellungen/ausstellung/sammlung-martin-und-veronika-burckhardt-7453438805107822962.html
END:VEVENT
BEGIN:VEVENT
UID:20260424T214054Z-7453438805179126132@eventfrog.de
DTSTAMP:20260424T214054Z
DTSTART:20260516T090000Z
DTEND:20260516T160000Z
SUMMARY:Sammlung Martin und Veronika Burckhardt
DESCRIPTION:Sammlung Martin und Veronika Burckhardt - Von privaten Schätzen und öffentlichem Engagement\nMit Werken der Erbengemeinschaft sowie aus dem Karl August Burckhardt-Koechlin-Fonds im Kupferstichkabinett\n\nhttps://eventfrog.de/de/p/kunst-ausstellungen/ausstellung/sammlung-martin-und-veronika-burckhardt-7453438805179126132.html
LOCATION:FOR ART - eine temporäre Kunstintervention von Littmann Kulturprojekte
GEO:47.555291;7.593660
URL:https://eventfrog.de/de/p/kunst-ausstellungen/ausstellung/sammlung-martin-und-veronika-burckhardt-7453438805179126132.html
END:VEVENT
BEGIN:VEVENT
UID:20260424T214054Z-7453438805242040694@eventfrog.de
DTSTAMP:20260424T214054Z
DTSTART:20260522T090000Z
DTEND:20260522T160000Z
SUMMARY:Sammlung Martin und Veronika Burckhardt
DESCRIPTION:Sammlung Martin und Veronika Burckhardt - Von privaten Schätzen und öffentlichem Engagement\nMit Werken der Erbengemeinschaft sowie aus dem Karl August Burckhardt-Koechlin-Fonds im Kupferstichkabinett\n\nhttps://eventfrog.de/de/p/kunst-ausstellungen/ausstellung/sammlung-martin-und-veronika-burckhardt-7453438805242040694.html
LOCATION:FOR ART - eine temporäre Kunstintervention von Littmann Kulturprojekte
GEO:47.555291;7.593660
URL:https://eventfrog.de/de/p/kunst-ausstellungen/ausstellung/sammlung-martin-und-veronika-burckhardt-7453438805242040694.html
END:VEVENT
BEGIN:VEVENT
UID:20260424T214054Z-7453438805304955257@eventfrog.de
DTSTAMP:20260424T214054Z
DTSTART:20260523T090000Z
DTEND:20260523T160000Z
SUMMARY:Sammlung Martin und Veronika Burckhardt
DESCRIPTION:Sammlung Martin und Veronika Burckhardt - Von privaten Schätzen und öffentlichem Engagement\nMit Werken der Erbengemeinschaft sowie aus dem Karl August Burckhardt-Koechlin-Fonds im Kupferstichkabinett\n\nhttps://eventfrog.de/de/p/kunst-ausstellungen/ausstellung/sammlung-martin-und-veronika-burckhardt-7453438805304955257.html
LOCATION:FOR ART - eine temporäre Kunstintervention von Littmann Kulturprojekte
GEO:47.555291;7.593660
URL:https://eventfrog.de/de/p/kunst-ausstellungen/ausstellung/sammlung-martin-und-veronika-burckhardt-7453438805304955257.html
END:VEVENT
BEGIN:VEVENT
UID:20260424T214054Z-7453438805367869819@eventfrog.de
DTSTAMP:20260424T214054Z
DTSTART:20260529T090000Z
DTEND:20260529T160000Z
SUMMARY:Sammlung Martin und Veronika Burckhardt
DESCRIPTION:Sammlung Martin und Veronika Burckhardt - Von privaten Schätzen und öffentlichem Engagement\nMit Werken der Erbengemeinschaft sowie aus dem Karl August Burckhardt-Koechlin-Fonds im Kupferstichkabinett\n\nhttps://eventfrog.de/de/p/kunst-ausstellungen/ausstellung/sammlung-martin-und-veronika-burckhardt-7453438805367869819.html
LOCATION:FOR ART - eine temporäre Kunstintervention von Littmann Kulturprojekte
GEO:47.555291;7.593660
URL:https://eventfrog.de/de/p/kunst-ausstellungen/ausstellung/sammlung-martin-und-veronika-burckhardt-7453438805367869819.html
END:VEVENT
BEGIN:VEVENT
UID:20260424T214054Z-7453438805430784381@eventfrog.de
DTSTAMP:20260424T214054Z
DTSTART:20260530T090000Z
DTEND:20260530T160000Z
SUMMARY:Sammlung Martin und Veronika Burckhardt
DESCRIPTION:Sammlung Martin und Veronika Burckhardt - Von privaten Schätzen und öffentlichem Engagement\nMit Werken der Erbengemeinschaft sowie aus dem Karl August Burckhardt-Koechlin-Fonds im Kupferstichkabinett\n\nhttps://eventfrog.de/de/p/kunst-ausstellungen/ausstellung/sammlung-martin-und-veronika-burckhardt-7453438805430784381.html
LOCATION:FOR ART - eine temporäre Kunstintervention von Littmann Kulturprojekte
GEO:47.555291;7.593660
URL:https://eventfrog.de/de/p/kunst-ausstellungen/ausstellung/sammlung-martin-und-veronika-burckhardt-7453438805430784381.html
END:VEVENT
BEGIN:VEVENT
UID:20260424T214054Z-7453438805493698943@eventfrog.de
DTSTAMP:20260424T214054Z
DTSTART:20260605T090000Z
DTEND:20260605T160000Z
SUMMARY:Sammlung Martin und Veronika Burckhardt
DESCRIPTION:Sammlung Martin und Veronika Burckhardt - Von privaten Schätzen und öffentlichem Engagement\nMit Werken der Erbengemeinschaft sowie aus dem Karl August Burckhardt-Koechlin-Fonds im Kupferstichkabinett\n\nhttps://eventfrog.de/de/p/kunst-ausstellungen/ausstellung/sammlung-martin-und-veronika-burckhardt-7453438805493698943.html
LOCATION:FOR ART - eine temporäre Kunstintervention von Littmann Kulturprojekte
GEO:47.555291;7.593660
URL:https://eventfrog.de/de/p/kunst-ausstellungen/ausstellung/sammlung-martin-und-veronika-burckhardt-7453438805493698943.html
END:VEVENT
BEGIN:VEVENT
UID:20260424T214054Z-7453438805556613505@eventfrog.de
DTSTAMP:20260424T214054Z
DTSTART:20260606T090000Z
DTEND:20260606T160000Z
SUMMARY:Sammlung Martin und Veronika Burckhardt
DESCRIPTION:Sammlung Martin und Veronika Burckhardt - Von privaten Schätzen und öffentlichem Engagement\nMit Werken der Erbengemeinschaft sowie aus dem Karl August Burckhardt-Koechlin-Fonds im Kupferstichkabinett\n\nhttps://eventfrog.de/de/p/kunst-ausstellungen/ausstellung/sammlung-martin-und-veronika-burckhardt-7453438805556613505.html
LOCATION:FOR ART - eine temporäre Kunstintervention von Littmann Kulturprojekte
GEO:47.555291;7.593660
URL:https://eventfrog.de/de/p/kunst-ausstellungen/ausstellung/sammlung-martin-und-veronika-burckhardt-7453438805556613505.html
END:VEVENT
BEGIN:VEVENT
UID:20260424T214054Z-7453438805661471107@eventfrog.de
DTSTAMP:20260424T214054Z
DTSTART:20260612T090000Z
DTEND:20260612T160000Z
SUMMARY:Sammlung Martin und Veronika Burckhardt
DESCRIPTION:Sammlung Martin und Veronika Burckhardt - Von privaten Schätzen und öffentlichem Engagement\nMit Werken der Erbengemeinschaft sowie aus dem Karl August Burckhardt-Koechlin-Fonds im Kupferstichkabinett\n\nhttps://eventfrog.de/de/p/kunst-ausstellungen/ausstellung/sammlung-martin-und-veronika-burckhardt-7453438805661471107.html
LOCATION:FOR ART - eine temporäre Kunstintervention von Littmann Kulturprojekte
GEO:47.555291;7.593660
URL:https://eventfrog.de/de/p/kunst-ausstellungen/ausstellung/sammlung-martin-und-veronika-burckhardt-7453438805661471107.html
END:VEVENT
BEGIN:VEVENT
UID:20260424T214054Z-7453438805724385669@eventfrog.de
DTSTAMP:20260424T214054Z
DTSTART:20260613T090000Z
DTEND:20260613T160000Z
SUMMARY:Sammlung Martin und Veronika Burckhardt
DESCRIPTION:Sammlung Martin und Veronika Burckhardt - Von privaten Schätzen und öffentlichem Engagement\nMit Werken der Erbengemeinschaft sowie aus dem Karl August Burckhardt-Koechlin-Fonds im Kupferstichkabinett\n\nhttps://eventfrog.de/de/p/kunst-ausstellungen/ausstellung/sammlung-martin-und-veronika-burckhardt-7453438805724385669.html
LOCATION:FOR ART - eine temporäre Kunstintervention von Littmann Kulturprojekte
GEO:47.555291;7.593660
URL:https://eventfrog.de/de/p/kunst-ausstellungen/ausstellung/sammlung-martin-und-veronika-burckhardt-7453438805724385669.html
END:VEVENT
BEGIN:VEVENT
UID:20260424T214054Z-7453438805787300231@eventfrog.de
DTSTAMP:20260424T214054Z
DTSTART:20260614T090000Z
DTEND:20260614T160000Z
SUMMARY:Sammlung Martin und Veronika Burckhardt
DESCRIPTION:Sammlung Martin und Veronika Burckhardt - Von privaten Schätzen und öffentlichem Engagement\nMit Werken der Erbengemeinschaft sowie aus dem Karl August Burckhardt-Koechlin-Fonds im Kupferstichkabinett\n\nhttps://eventfrog.de/de/p/kunst-ausstellungen/ausstellung/sammlung-martin-und-veronika-burckhardt-7453438805787300231.html
LOCATION:FOR ART - eine temporäre Kunstintervention von Littmann Kulturprojekte
GEO:47.555291;7.593660
URL:https://eventfrog.de/de/p/kunst-ausstellungen/ausstellung/sammlung-martin-und-veronika-burckhardt-7453438805787300231.html
END:VEVENT
BEGIN:VEVENT
UID:20260424T214054Z-7453438805854409098@eventfrog.de
DTSTAMP:20260424T214054Z
DTSTART:20260615T090000Z
DTEND:20260615T160000Z
SUMMARY:Sammlung Martin und Veronika Burckhardt
DESCRIPTION:Sammlung Martin und Veronika Burckhardt - Von privaten Schätzen und öffentlichem Engagement\nMit Werken der Erbengemeinschaft sowie aus dem Karl August Burckhardt-Koechlin-Fonds im Kupferstichkabinett\n\nhttps://eventfrog.de/de/p/kunst-ausstellungen/ausstellung/sammlung-martin-und-veronika-burckhardt-7453438805854409098.html
LOCATION:FOR ART - eine temporäre Kunstintervention von Littmann Kulturprojekte
GEO:47.555291;7.593660
URL:https://eventfrog.de/de/p/kunst-ausstellungen/ausstellung/sammlung-martin-und-veronika-burckhardt-7453438805854409098.html
END:VEVENT
BEGIN:VEVENT
UID:20260424T214054Z-7453438805921517964@eventfrog.de
DTSTAMP:20260424T214054Z
DTSTART:20260616T090000Z
DTEND:20260616T160000Z
SUMMARY:Sammlung Martin und Veronika Burckhardt
DESCRIPTION:Sammlung Martin und Veronika Burckhardt - Von privaten Schätzen und öffentlichem Engagement\nMit Werken der Erbengemeinschaft sowie aus dem Karl August Burckhardt-Koechlin-Fonds im Kupferstichkabinett\n\nhttps://eventfrog.de/de/p/kunst-ausstellungen/ausstellung/sammlung-martin-und-veronika-burckhardt-7453438805921517964.html
LOCATION:FOR ART - eine temporäre Kunstintervention von Littmann Kulturprojekte
GEO:47.555291;7.593660
URL:https://eventfrog.de/de/p/kunst-ausstellungen/ausstellung/sammlung-martin-und-veronika-burckhardt-7453438805921517964.html
END:VEVENT
BEGIN:VEVENT
UID:20260424T214054Z-7453438805988626830@eventfrog.de
DTSTAMP:20260424T214054Z
DTSTART:20260617T090000Z
DTEND:20260617T160000Z
SUMMARY:Sammlung Martin und Veronika Burckhardt
DESCRIPTION:Sammlung Martin und Veronika Burckhardt - Von privaten Schätzen und öffentlichem Engagement\nMit Werken der Erbengemeinschaft sowie aus dem Karl August Burckhardt-Koechlin-Fonds im Kupferstichkabinett\n\nhttps://eventfrog.de/de/p/kunst-ausstellungen/ausstellung/sammlung-martin-und-veronika-burckhardt-7453438805988626830.html
LOCATION:FOR ART - eine temporäre Kunstintervention von Littmann Kulturprojekte
GEO:47.555291;7.593660
URL:https://eventfrog.de/de/p/kunst-ausstellungen/ausstellung/sammlung-martin-und-veronika-burckhardt-7453438805988626830.html
END:VEVENT
BEGIN:VEVENT
UID:20260424T214054Z-7453438806051541392@eventfrog.de
DTSTAMP:20260424T214054Z
DTSTART:20260618T090000Z
DTEND:20260618T160000Z
SUMMARY:Sammlung Martin und Veronika Burckhardt
DESCRIPTION:Sammlung Martin und Veronika Burckhardt - Von privaten Schätzen und öffentlichem Engagement\nMit Werken der Erbengemeinschaft sowie aus dem Karl August Burckhardt-Koechlin-Fonds im Kupferstichkabinett\n\nhttps://eventfrog.de/de/p/kunst-ausstellungen/ausstellung/sammlung-martin-und-veronika-burckhardt-7453438806051541392.html
LOCATION:FOR ART - eine temporäre Kunstintervention von Littmann Kulturprojekte
GEO:47.555291;7.593660
URL:https://eventfrog.de/de/p/kunst-ausstellungen/ausstellung/sammlung-martin-und-veronika-burckhardt-7453438806051541392.html
END:VEVENT
BEGIN:VEVENT
UID:20260424T214054Z-7453438806114455954@eventfrog.de
DTSTAMP:20260424T214054Z
DTSTART:20260619T090000Z
DTEND:20260619T160000Z
SUMMARY:Sammlung Martin und Veronika Burckhardt
DESCRIPTION:Sammlung Martin und Veronika Burckhardt - Von privaten Schätzen und öffentlichem Engagement\nMit Werken der Erbengemeinschaft sowie aus dem Karl August Burckhardt-Koechlin-Fonds im Kupferstichkabinett\n\nhttps://eventfrog.de/de/p/kunst-ausstellungen/ausstellung/sammlung-martin-und-veronika-burckhardt-7453438806114455954.html
LOCATION:FOR ART - eine temporäre Kunstintervention von Littmann Kulturprojekte
GEO:47.555291;7.593660
URL:https://eventfrog.de/de/p/kunst-ausstellungen/ausstellung/sammlung-martin-und-veronika-burckhardt-7453438806114455954.html
END:VEVENT
BEGIN:VEVENT
UID:20260424T214054Z-7453438806181564820@eventfrog.de
DTSTAMP:20260424T214054Z
DTSTART:20260620T090000Z
DTEND:20260620T160000Z
SUMMARY:Sammlung Martin und Veronika Burckhardt
DESCRIPTION:Sammlung Martin und Veronika Burckhardt - Von privaten Schätzen und öffentlichem Engagement\nMit Werken der Erbengemeinschaft sowie aus dem Karl August Burckhardt-Koechlin-Fonds im Kupferstichkabinett\n\nhttps://eventfrog.de/de/p/kunst-ausstellungen/ausstellung/sammlung-martin-und-veronika-burckhardt-7453438806181564820.html
LOCATION:FOR ART - eine temporäre Kunstintervention von Littmann Kulturprojekte
GEO:47.555291;7.593660
URL:https://eventfrog.de/de/p/kunst-ausstellungen/ausstellung/sammlung-martin-und-veronika-burckhardt-7453438806181564820.html
END:VEVENT
BEGIN:VEVENT
UID:20260424T214054Z-7453438806244479382@eventfrog.de
DTSTAMP:20260424T214054Z
DTSTART:20260621T090000Z
DTEND:20260621T160000Z
SUMMARY:Sammlung Martin und Veronika Burckhardt
DESCRIPTION:Sammlung Martin und Veronika Burckhardt - Von privaten Schätzen und öffentlichem Engagement\nMit Werken der Erbengemeinschaft sowie aus dem Karl August Burckhardt-Koechlin-Fonds im Kupferstichkabinett\n\nhttps://eventfrog.de/de/p/kunst-ausstellungen/ausstellung/sammlung-martin-und-veronika-burckhardt-7453438806244479382.html
LOCATION:FOR ART - eine temporäre Kunstintervention von Littmann Kulturprojekte
GEO:47.555291;7.593660
URL:https://eventfrog.de/de/p/kunst-ausstellungen/ausstellung/sammlung-martin-und-veronika-burckhardt-7453438806244479382.html
END:VEVENT
BEGIN:VEVENT
UID:20260424T214054Z-7453438806311588248@eventfrog.de
DTSTAMP:20260424T214054Z
DTSTART:20260626T090000Z
DTEND:20260626T160000Z
SUMMARY:Sammlung Martin und Veronika Burckhardt
DESCRIPTION:Sammlung Martin und Veronika Burckhardt - Von privaten Schätzen und öffentlichem Engagement\nMit Werken der Erbengemeinschaft sowie aus dem Karl August Burckhardt-Koechlin-Fonds im Kupferstichkabinett\n\nhttps://eventfrog.de/de/p/kunst-ausstellungen/ausstellung/sammlung-martin-und-veronika-burckhardt-7453438806311588248.html
LOCATION:FOR ART - eine temporäre Kunstintervention von Littmann Kulturprojekte
GEO:47.555291;7.593660
URL:https://eventfrog.de/de/p/kunst-ausstellungen/ausstellung/sammlung-martin-und-veronika-burckhardt-7453438806311588248.html
END:VEVENT
BEGIN:VEVENT
UID:20260424T214054Z-7453438806370308507@eventfrog.de
DTSTAMP:20260424T214054Z
DTSTART:20260627T090000Z
DTEND:20260627T160000Z
SUMMARY:Sammlung Martin und Veronika Burckhardt
DESCRIPTION:Sammlung Martin und Veronika Burckhardt - Von privaten Schätzen und öffentlichem Engagement\nMit Werken der Erbengemeinschaft sowie aus dem Karl August Burckhardt-Koechlin-Fonds im Kupferstichkabinett\n\nhttps://eventfrog.de/de/p/kunst-ausstellungen/ausstellung/sammlung-martin-und-veronika-burckhardt-7453438806370308507.html
LOCATION:FOR ART - eine temporäre Kunstintervention von Littmann Kulturprojekte
GEO:47.555291;7.593660
URL:https://eventfrog.de/de/p/kunst-ausstellungen/ausstellung/sammlung-martin-und-veronika-burckhardt-7453438806370308507.html
END:VEVENT
END:VCALENDAR