BEGIN:VCALENDAR
VERSION:2.0
PRODID:EVENTFROG//EVENTGROUP//ICAL
BEGIN:VEVENT
UID:20260426T011356Z-7453458002856656367@eventfrog.de
DTSTAMP:20260426T011356Z
DTSTART:20260502T173000Z
DTEND:20260502T193000Z
SUMMARY:CROWN
DESCRIPTION:CROWN: Christlicher Lobpreis durch Tanz, Malerei, Schreiben & Musik. 3-4x jährlich in Freiburg. / Louange chrétienne par la danse, peinture, écriture & musique. 3-4x par an à Fribourg.\n\nhttps://eventfrog.de/en/p/concerts/other-music-genres/crown-7453458002856656367.html
LOCATION:Pfarrkirche St. German Gurmels
GEO:46.892683;7.171655
URL:https://eventfrog.de/en/p/concerts/other-music-genres/crown-7453458002856656367.html
END:VEVENT
BEGIN:VEVENT
UID:20260426T011356Z-7453458953738927961@eventfrog.de
DTSTAMP:20260426T011356Z
DTSTART:20260704T173000Z
DTEND:20260704T193000Z
SUMMARY:CROWN
DESCRIPTION:CROWN: Christlicher Lobpreis durch Tanz, Malerei, Schreiben & Musik. 3-4x jährlich in Freiburg. / Louange chrétienne par la danse, peinture, écriture & musique. 3-4x par an à Fribourg.\n\nhttps://eventfrog.de/en/p/concerts/other-music-genres/crown-7453458953738927961.html
LOCATION:Rte du Centre 28
GEO:46.750568;7.032855
URL:https://eventfrog.de/en/p/concerts/other-music-genres/crown-7453458953738927961.html
END:VEVENT
END:VCALENDAR