BEGIN:VCALENDAR
VERSION:2.0
PRODID:EVENTFROG//EVENTGROUP//ICAL
BEGIN:VEVENT
UID:20260426T043137Z-7453926720007095746@eventfrog.de
DTSTAMP:20260426T043137Z
DTSTART:20260427T080000Z
DTEND:20260427T090000Z
SUMMARY:Senior:innenturnen
DESCRIPTION:Senior:innenturnen\n\nhttps://eventfrog.de/de/p/diverses/senior-innenturnen-7453926720007095746.html
LOCATION:Kirchgemeinde Haldenbüel
GEO:47.417503;9.248580
URL:https://eventfrog.de/de/p/diverses/senior-innenturnen-7453926720007095746.html
END:VEVENT
BEGIN:VEVENT
UID:20260426T043137Z-7453926702202274480@eventfrog.de
DTSTAMP:20260426T043137Z
DTSTART:20260504T080000Z
DTEND:20260504T090000Z
SUMMARY:Senior:innenturnen
DESCRIPTION:Senior:innenturnen\n\nhttps://eventfrog.de/de/p/diverses/senior-innenturnen-7453926702202274480.html
LOCATION:Kirchgemeinde Haldenbüel
GEO:47.417503;9.248580
URL:https://eventfrog.de/de/p/diverses/senior-innenturnen-7453926702202274480.html
END:VEVENT
BEGIN:VEVENT
UID:20260426T043137Z-7453926704718856884@eventfrog.de
DTSTAMP:20260426T043137Z
DTSTART:20260511T080000Z
DTEND:20260511T090000Z
SUMMARY:Senior:innenturnen
DESCRIPTION:Senior:innenturnen\n\nhttps://eventfrog.de/de/p/diverses/senior-innenturnen-7453926704718856884.html
LOCATION:Kirchgemeinde Haldenbüel
GEO:47.417503;9.248580
URL:https://eventfrog.de/de/p/diverses/senior-innenturnen-7453926704718856884.html
END:VEVENT
BEGIN:VEVENT
UID:20260426T043137Z-7453926707222856376@eventfrog.de
DTSTAMP:20260426T043137Z
DTSTART:20260518T080000Z
DTEND:20260518T090000Z
SUMMARY:Senior:innenturnen
DESCRIPTION:Senior:innenturnen\n\nhttps://eventfrog.de/de/p/diverses/senior-innenturnen-7453926707222856376.html
LOCATION:Kirchgemeinde Haldenbüel
GEO:47.417503;9.248580
URL:https://eventfrog.de/de/p/diverses/senior-innenturnen-7453926707222856376.html
END:VEVENT
BEGIN:VEVENT
UID:20260426T043137Z-7453926709844296385@eventfrog.de
DTSTAMP:20260426T043137Z
DTSTART:20260601T080000Z
DTEND:20260601T090000Z
SUMMARY:Senior:innenturnen
DESCRIPTION:Senior:innenturnen\n\nhttps://eventfrog.de/de/p/diverses/senior-innenturnen-7453926709844296385.html
LOCATION:Kirchgemeinde Haldenbüel
GEO:47.417503;9.248580
URL:https://eventfrog.de/de/p/diverses/senior-innenturnen-7453926709844296385.html
END:VEVENT
BEGIN:VEVENT
UID:20260426T043137Z-7453926712339907268@eventfrog.de
DTSTAMP:20260426T043137Z
DTSTART:20260608T080000Z
DTEND:20260608T090000Z
SUMMARY:Senior:innenturnen
DESCRIPTION:Senior:innenturnen\n\nhttps://eventfrog.de/de/p/diverses/senior-innenturnen-7453926712339907268.html
LOCATION:Kirchgemeinde Haldenbüel
GEO:47.417503;9.248580
URL:https://eventfrog.de/de/p/diverses/senior-innenturnen-7453926712339907268.html
END:VEVENT
BEGIN:VEVENT
UID:20260426T043137Z-7453926714848101083@eventfrog.de
DTSTAMP:20260426T043137Z
DTSTART:20260615T080000Z
DTEND:20260615T090000Z
SUMMARY:Senior:innenturnen
DESCRIPTION:Senior:innenturnen\n\nhttps://eventfrog.de/de/p/diverses/senior-innenturnen-7453926714848101083.html
LOCATION:Kirchgemeinde Haldenbüel
GEO:47.417503;9.248580
URL:https://eventfrog.de/de/p/diverses/senior-innenturnen-7453926714848101083.html
END:VEVENT
BEGIN:VEVENT
UID:20260426T043137Z-7453926717456958279@eventfrog.de
DTSTAMP:20260426T043137Z
DTSTART:20260622T080000Z
DTEND:20260622T090000Z
SUMMARY:Senior:innenturnen
DESCRIPTION:Senior:innenturnen\n\nhttps://eventfrog.de/de/p/diverses/senior-innenturnen-7453926717456958279.html
LOCATION:Kirchgemeinde Haldenbüel
GEO:47.417503;9.248580
URL:https://eventfrog.de/de/p/diverses/senior-innenturnen-7453926717456958279.html
END:VEVENT
BEGIN:VEVENT
UID:20260426T043137Z-7453926722691451782@eventfrog.de
DTSTAMP:20260426T043137Z
DTSTART:20260629T080000Z
DTEND:20260629T090000Z
SUMMARY:Senior:innenturnen
DESCRIPTION:Senior:innenturnen\n\nhttps://eventfrog.de/de/p/diverses/senior-innenturnen-7453926722691451782.html
LOCATION:Kirchgemeinde Haldenbüel
GEO:47.417503;9.248580
URL:https://eventfrog.de/de/p/diverses/senior-innenturnen-7453926722691451782.html
END:VEVENT
END:VCALENDAR