BEGIN:VCALENDAR
VERSION:2.0
PRODID:EVENTFROG//EVENT//ICAL
BEGIN:VEVENT
UID:20260422T014200Z-7365633865640084477@eventfrog.de
DTSTAMP:20260422T014200Z
DTSTART:20260821T220000Z
DTEND:20260822T220000Z
SUMMARY:Tiziano Sguerso in der Schweiz!
DESCRIPTION:Workshop Familienstellen mit Tiziano Sguerso aus Australien, zwei Tage tiefgreifende Übungen, auf Englisch, Kinder mit Eltern erlaubt.\n\nhttps://eventfrog.de/de/p/gesundheit-spiritualitaet/gesundheit-wohlbefinden/tiziano-sguerso-in-der-schweiz-7365633865640084477.html
LOCATION:Zürich Kloten (wird noch genau angekündigt)
GEO:47.443987;8.582463
URL:https://eventfrog.de/de/p/gesundheit-spiritualitaet/gesundheit-wohlbefinden/tiziano-sguerso-in-der-schweiz-7365633865640084477.html
END:VEVENT
END:VCALENDAR