BEGIN:VCALENDAR
VERSION:2.0
PRODID:EVENTFROG//EVENT//ICAL
BEGIN:VEVENT
UID:20260425T221851Z-7366394274944966246@eventfrog.de
DTSTAMP:20260425T221851Z
DTSTART:20260519T180000Z
SUMMARY:Peach Weber - King of Gäx
DESCRIPTION:Das Schweizer Urgestein der Comedy stattet mit seinem 17. Programm Basel nochmals einen Besuch ab.\n\nhttps://eventfrog.de/de/p/theater-buehne/comedy-kabarett/peach-weber-king-of-gaex-7366394274944966246.html
LOCATION:Theater Fauteuil
GEO:47.557349;7.586407
URL:https://eventfrog.de/de/p/theater-buehne/comedy-kabarett/peach-weber-king-of-gaex-7366394274944966246.html
END:VEVENT
END:VCALENDAR