BEGIN:VCALENDAR
VERSION:2.0
PRODID:EVENTFROG//EVENT//ICAL
BEGIN:VEVENT
UID:20260422T152944Z-7388904238401741757@eventfrog.de
DTSTAMP:20260422T152944Z
DTSTART:20260507T173000Z
DTEND:20260507T193000Z
SUMMARY:Miss Daisy und Ihr Chauffeur
DESCRIPTION:Das Schauspiel von Alfred Uhry in Atlanta, Georgia 1948 zeigt Miss Daisys anfängliche Widerständigkeit gegenüber Chauffeur Hoke, die in respektvolle Sympathie umschlägt. Regie: Frank Matthus.\n\nhttps://eventfrog.de/de/p/theater-buehne/buehnenveranstaltung/miss-daisy-und-ihr-chauffeur-7388904238401741757.html
LOCATION:Bürgerhaus Neuer Markt
GEO:48.697125;8.133554
URL:https://eventfrog.de/de/p/theater-buehne/buehnenveranstaltung/miss-daisy-und-ihr-chauffeur-7388904238401741757.html
END:VEVENT
END:VCALENDAR