BEGIN:VCALENDAR
VERSION:2.0
PRODID:EVENTFROG//EVENT//ICAL
BEGIN:VEVENT
UID:20260425T203344Z-7389426694644358642@eventfrog.de
DTSTAMP:20260425T203344Z
DTSTART:20260508T180000Z
DTEND:20260508T203000Z
SUMMARY:siJamais
DESCRIPTION:Musikerinnen im Streit getrennt, schiefe Bahn, hinter Gitter! So eine gemeine Strafe! Ein lustvolles Wechselspiel zwischen berührendem Humor, augenzwinkerndem Melodrama und viel Musik.\n\nhttps://eventfrog.de/de/p/theater-buehne/comedy-kabarett/sijamais-7389426694644358642.html
LOCATION:Schloss-Chäller
GEO:47.465782;7.599250
URL:https://eventfrog.de/de/p/theater-buehne/comedy-kabarett/sijamais-7389426694644358642.html
END:VEVENT
END:VCALENDAR