BEGIN:VCALENDAR
VERSION:2.0
PRODID:EVENTFROG//EVENT//ICAL
BEGIN:VEVENT
UID:20260422T152946Z-7393030167487100963@eventfrog.de
DTSTAMP:20260422T152946Z
DTSTART:20260504T180000Z
DTEND:20260504T200000Z
SUMMARY:Reiner Calmund – Ein runder Abend mit Fußball & Freunden
DESCRIPTION:Er ist Kult, er ist Meinung, er ist Fußball durch und durch: Reiner Calmund lädt ein zu einem ganz besonderen Abend – vollgepackt mit spannenden Geschichten, ehrlichen Worten und jeder Menge Herzblut.\n\nhttps://eventfrog.de/de/p/theater-buehne/buehnenveranstaltung/reiner-calmund-ein-runder-abend-mit-fussball-freunden-7393030167487100963.html
LOCATION:Theater am Ring Saarlouis
GEO:49.313461;6.752286
URL:https://eventfrog.de/de/p/theater-buehne/buehnenveranstaltung/reiner-calmund-ein-runder-abend-mit-fussball-freunden-7393030167487100963.html
END:VEVENT
END:VCALENDAR