BEGIN:VCALENDAR
VERSION:2.0
PRODID:EVENTFROG//EVENT//ICAL
BEGIN:VEVENT
UID:20260425T203308Z-7393571611062869002@eventfrog.de
DTSTAMP:20260425T203308Z
DTSTART:20260509T180000Z
SUMMARY:William Wahl - wahlweise
DESCRIPTION:Mit «wahlweise» präsentiert William Wahl sein drittes Programm. Seine Wahlgesänge ertönen live vor deutschlandweit ausverkauften Häusern.\n\n\nhttps://eventfrog.de/de/p/theater-buehne/comedy-kabarett/william-wahl-wahlweise-7393571611062869002.html
LOCATION:Theater Fauteuil
GEO:47.557349;7.586407
URL:https://eventfrog.de/de/p/theater-buehne/comedy-kabarett/william-wahl-wahlweise-7393571611062869002.html
END:VEVENT
END:VCALENDAR