BEGIN:VCALENDAR
VERSION:2.0
PRODID:EVENTFROG//EVENT//ICAL
BEGIN:VEVENT
UID:20260425T201608Z-7393582377505661975@eventfrog.de
DTSTAMP:20260425T201608Z
DTSTART:20260508T180000Z
DTEND:20260508T200000Z
SUMMARY:Carlos Martinez - Zugabe, die finale Show
DESCRIPTION:Carlos Martínez, seine finale Show, die seine aussergewöhnliche Karriere feiert: ZUGABE!\n\n\nhttps://eventfrog.de/de/p/theater-buehne/pantomime/carlos-martinez-zugabe-die-finale-show-7393582377505661975.html
LOCATION:Gemeindezentrum «Dreiklang»
GEO:47.196519;8.481566
URL:https://eventfrog.de/de/p/theater-buehne/pantomime/carlos-martinez-zugabe-die-finale-show-7393582377505661975.html
END:VEVENT
END:VCALENDAR