BEGIN:VCALENDAR
VERSION:2.0
PRODID:EVENTFROG//EVENT//ICAL
BEGIN:VEVENT
UID:20260425T221851Z-7394662108753855165@eventfrog.de
DTSTAMP:20260425T221851Z
DTSTART:20260514T180000Z
SUMMARY:Helga Schneider - Ich weiss
DESCRIPTION:Comedy ganz in Weiss – mit schwarzem Humor und altklugen Weisheiten.\n\n\nhttps://eventfrog.de/de/p/theater-buehne/comedy-kabarett/helga-schneider-ich-weiss-7394662108753855165.html
LOCATION:Theater Fauteuil - Tabourettli
GEO:47.557349;7.586407
URL:https://eventfrog.de/de/p/theater-buehne/comedy-kabarett/helga-schneider-ich-weiss-7394662108753855165.html
END:VEVENT
END:VCALENDAR