BEGIN:VCALENDAR
VERSION:2.0
PRODID:EVENTFROG//EVENT//ICAL
BEGIN:VEVENT
UID:20260425T204304Z-7398672489084127444@eventfrog.de
DTSTAMP:20260425T204304Z
DTSTART:20260521T180000Z
SUMMARY:Stefan Büsser - Über-Lebt
DESCRIPTION:Ein Comedy-Programm über Menschen, Glück und das beste Medikament für alle Lebenslagen: Humor.\n\nhttps://eventfrog.de/de/p/theater-buehne/comedy-kabarett/stefan-buesser-ueber-lebt-7398672489084127444.html
LOCATION:Theater Fauteuil
GEO:47.557349;7.586407
URL:https://eventfrog.de/de/p/theater-buehne/comedy-kabarett/stefan-buesser-ueber-lebt-7398672489084127444.html
END:VEVENT
END:VCALENDAR