BEGIN:VCALENDAR
VERSION:2.0
PRODID:EVENTFROG//EVENT//ICAL
BEGIN:VEVENT
UID:20260425T203306Z-7398672856534537003@eventfrog.de
DTSTAMP:20260425T203306Z
DTSTART:20260521T180000Z
SUMMARY:Die Zwillinge - Neue Comedy-Show
DESCRIPTION:COPY PASTE war gestern – das Duo präsentiert seine neue Comedy-Show.\n\nhttps://eventfrog.de/de/p/theater-buehne/comedy-kabarett/die-zwillinge-neue-comedy-show-7398672856534537003.html
LOCATION:Theater Fauteuil - Tabourettli
GEO:47.557349;7.586407
URL:https://eventfrog.de/de/p/theater-buehne/comedy-kabarett/die-zwillinge-neue-comedy-show-7398672856534537003.html
END:VEVENT
END:VCALENDAR