BEGIN:VCALENDAR
VERSION:2.0
PRODID:EVENTFROG//EVENT//ICAL
BEGIN:VEVENT
UID:20260425T164416Z-7399016442157355500@eventfrog.de
DTSTAMP:20260425T164416Z
DTSTART:20260820T140000Z
DTEND:20260823T160000Z
SUMMARY:Radevormwald Karibisch
DESCRIPTION:«Radevormwald Karibisch» lockt vom 20. bis 23. August mit Sandstrand, tropischen Drinks, Live-Musik und Familienprogramm - Eintritt frei.\n\nhttps://eventfrog.de/de/p/essen-trinken/radevormwald-karibisch-7399016442157355500.html
LOCATION:Marktplatz
GEO:51.203027;7.357430
URL:https://eventfrog.de/de/p/essen-trinken/radevormwald-karibisch-7399016442157355500.html
END:VEVENT
END:VCALENDAR