BEGIN:VCALENDAR
VERSION:2.0
PRODID:EVENTFROG//EVENT//ICAL
BEGIN:VEVENT
UID:20260425T201546Z-7401215889817744684@eventfrog.de
DTSTAMP:20260425T201546Z
DTSTART:20260530T173000Z
DTEND:20260530T183000Z
SUMMARY:Filmmusik aus Italien
DESCRIPTION:6. Saisonprogramm Ensemble ö! «Cinema II» Ensemble ö! Big Band - Werke von Caflisch, Zhao, Mancini, Cipriano, Umiliani, Piccioni und Roelens\n\n\nhttps://eventfrog.de/de/p/klassik-opern/klassik/filmmusik-aus-italien-7401215889817744684.html
LOCATION:Philosophicum im Ackermannshof - Druckereihalle
GEO:47.563148;7.584677
URL:https://eventfrog.de/de/p/klassik-opern/klassik/filmmusik-aus-italien-7401215889817744684.html
END:VEVENT
END:VCALENDAR