BEGIN:VCALENDAR
VERSION:2.0
PRODID:EVENTFROG//EVENT//ICAL
BEGIN:VEVENT
UID:20260425T221755Z-7414289542998405401@eventfrog.de
DTSTAMP:20260425T221755Z
DTSTART:20261125T090000Z
DTEND:20261125T153000Z
SUMMARY:Jahresausstellung des kreativAteliers
DESCRIPTION:Jahresausstellung des kreativAtelier (Motto: Wald)\n\nhttps://eventfrog.de/de/p/kunst-ausstellungen/ausstellung/jahresausstellung-des-kreativateliers-7414289542998405401.html
LOCATION:Wohn- und Bürozentrum für Körperbehinderte
GEO:47.494300;7.599470
URL:https://eventfrog.de/de/p/kunst-ausstellungen/ausstellung/jahresausstellung-des-kreativateliers-7414289542998405401.html
END:VEVENT
END:VCALENDAR