BEGIN:VCALENDAR
VERSION:2.0
PRODID:EVENTFROG//EVENT//ICAL
BEGIN:VEVENT
UID:20260425T205137Z-7419160398362875663@eventfrog.de
DTSTAMP:20260425T205137Z
DTSTART:20260509T180000Z
DTEND:20260509T200000Z
SUMMARY:La Tarima - Comedia en Español - BASEL
DESCRIPTION:Open mic de comedia 100% en español.\nRíete con comediantes latinos en Basel.\nSábado 9 de mayo\n\nhttps://eventfrog.de/en/p/theatre-stage/comedy-cabaret/la-tarima-comedia-en-espanol-basel-7419160398362875663.html
LOCATION:The Beast Basel Comedy Club
GEO:47.556046;7.589448
URL:https://eventfrog.de/en/p/theatre-stage/comedy-cabaret/la-tarima-comedia-en-espanol-basel-7419160398362875663.html
END:VEVENT
END:VCALENDAR