BEGIN:VCALENDAR
VERSION:2.0
PRODID:EVENTFROG//EVENT//ICAL
BEGIN:VEVENT
UID:20260425T203350Z-7420482860316903027@eventfrog.de
DTSTAMP:20260425T203350Z
DTSTART:20260501T200000Z
DTEND:20260502T020000Z
SUMMARY:JUKEBOX x Back to Classics
DESCRIPTION:Two Floors - Twice the Vibes! \n\nhttps://eventfrog.de/de/p/partys/charts-open-format/jukebox-x-back-to-classics-7420482860316903027.html
LOCATION:Bar Rouge - Rooftop Bar & Club
GEO:47.564526;7.601918
URL:https://eventfrog.de/de/p/partys/charts-open-format/jukebox-x-back-to-classics-7420482860316903027.html
END:VEVENT
END:VCALENDAR