BEGIN:VCALENDAR
VERSION:2.0
PRODID:EVENTFROG//EVENT//ICAL
BEGIN:VEVENT
UID:20260426T012811Z-7421559382352125857@eventfrog.de
DTSTAMP:20260426T012811Z
DTSTART:20260425T180000Z
SUMMARY:Simon & Garfunkel Tribute meets Classic
DESCRIPTION:Simon & Garfunkel Tribute meets Classic – Duo Graceland mit Streichquartett und Band\n\n\nhttps://eventfrog.de/de/p/konzerte/pop-rock/simon-garfunkel-tribute-meets-classic-7421559382352125857.html
LOCATION:Stadhalle Dillingen
GEO:49.355501;6.719318
URL:https://eventfrog.de/de/p/konzerte/pop-rock/simon-garfunkel-tribute-meets-classic-7421559382352125857.html
END:VEVENT
END:VCALENDAR