BEGIN:VCALENDAR
VERSION:2.0
PRODID:EVENTFROG//EVENT//ICAL
BEGIN:VEVENT
UID:20260425T201547Z-7421969320182306653@eventfrog.de
DTSTAMP:20260425T201547Z
DTSTART:20260827T113000Z
DTEND:20260827T183000Z
SUMMARY:Schweizer KMU Fachforum 2026
DESCRIPTION:Praxisnahe Tipps zur digitalen Transformation für KMU mit Vorträgen, Sessions zu "Veränderung" und "Daten", Key Note zu "Autonomes Fahren in der Schweiz". Getränke, Apéro und Abendessen inklusive.\n\nhttps://eventfrog.de/de/p/fuehrungen-vortraege/symposium/schweizer-kmu-fachforum-2026-7421969320182306653.html
LOCATION:Heuboden
GEO:47.155659;8.446873
URL:https://eventfrog.de/de/p/fuehrungen-vortraege/symposium/schweizer-kmu-fachforum-2026-7421969320182306653.html
END:VEVENT
END:VCALENDAR