BEGIN:VCALENDAR
VERSION:2.0
PRODID:EVENTFROG//EVENT//ICAL
BEGIN:VEVENT
UID:20260424T110744Z-7425159620455347141@eventfrog.de
DTSTAMP:20260424T110744Z
DTSTART:20260429T173000Z
SUMMARY:Markus Orths: „Die Enthusiasten“
DESCRIPTION:Markus Orths liest aus «Die Enthusiasten» und diskutiert mit Joachim Dicks vom Sender NDR Kultur über Literatur, Kunst und Künstliche Intelligenz im Wilhelm 13 Oldenburg.\n\nhttps://eventfrog.de/de/p/theater-buehne/lesung/markus-orths-die-enthusiasten-7425159620455347141.html
LOCATION:Musik- und Literaturhaus Wilhelm13
GEO:53.142649;8.206907
URL:https://eventfrog.de/de/p/theater-buehne/lesung/markus-orths-die-enthusiasten-7425159620455347141.html
END:VEVENT
END:VCALENDAR