BEGIN:VCALENDAR
VERSION:2.0
PRODID:EVENTFROG//EVENT//ICAL
BEGIN:VEVENT
UID:20260425T203341Z-7426987761146575926@eventfrog.de
DTSTAMP:20260425T203341Z
DTSTART:20260508T200000Z
DTEND:20260509T020000Z
SUMMARY:RED FRIDAY
DESCRIPTION:Feiere eine ultimative Party auf 2 Floors in 105 Metern Höhe mit Cocktails, Club Classics, RnB, Charts, Salsa und Latin. Tanze bis zum Morgen! Join the club!\n\nhttps://eventfrog.de/de/p/partys/charts-open-format/red-friday-7426987761146575926.html
LOCATION:Bar Rouge - Rooftop Bar & Club
GEO:47.564526;7.601918
URL:https://eventfrog.de/de/p/partys/charts-open-format/red-friday-7426987761146575926.html
END:VEVENT
END:VCALENDAR