BEGIN:VCALENDAR
VERSION:2.0
PRODID:EVENTFROG//EVENT//ICAL
BEGIN:VEVENT
UID:20260424T062020Z-7429068624000717242@eventfrog.de
DTSTAMP:20260424T062020Z
DTSTART:20260519T060000Z
DTEND:20260519T070000Z
SUMMARY:Dialog in der Pflege: Gemeinsam die Zukunft gestalten
DESCRIPTION:​Vom Rückblick zum Ausblick​​\n\nhttps://eventfrog.de/de/p/wissenschaft-und-technik/dialog-in-der-pflege-gemeinsam-die-zukunft-gestalten-7429068624000717242.html
LOCATION:DigitalDialog
URL:https://eventfrog.de/de/p/wissenschaft-und-technik/dialog-in-der-pflege-gemeinsam-die-zukunft-gestalten-7429068624000717242.html
END:VEVENT
END:VCALENDAR