BEGIN:VCALENDAR
VERSION:2.0
PRODID:EVENTFROG//EVENT//ICAL
BEGIN:VEVENT
UID:20260426T023958Z-7429172664621619576@eventfrog.de
DTSTAMP:20260426T023958Z
DTSTART:20260426T160000Z
DTEND:20260426T180000Z
SUMMARY:Alberto Menéndez & Michael Arlt  ‘ALTERNATIVE FACTS’
DESCRIPTION:Swingender Jazz, auch mit kubanischen und brasilianischen Rhythmen\n\nhttps://eventfrog.de/de/p/konzerte/jazz-blues/alberto-menendez-michael-arlt-alternative-facts-7429172664621619576.html
LOCATION:Glashaus im Waldpark
GEO:49.468243;8.610591
URL:https://eventfrog.de/de/p/konzerte/jazz-blues/alberto-menendez-michael-arlt-alternative-facts-7429172664621619576.html
END:VEVENT
END:VCALENDAR