BEGIN:VCALENDAR
VERSION:2.0
PRODID:EVENTFROG//EVENT//ICAL
BEGIN:VEVENT
UID:20260424T004820Z-7429178964399161311@eventfrog.de
DTSTAMP:20260424T004820Z
DTSTART:20260506T160000Z
DTEND:20260510T215900Z
SUMMARY:Tanzfest Winterthur 2026
DESCRIPTION:Tanzfest Winterthur 2026\n\nVom 06. bis 10. Mai 2026 können verschiedenste Performances von nationalen sowie lokalen Tanzkünstler:innen erlebt, zahlreiche Kurse ausprobiert und Shows genossen werden.\n\nhttps://eventfrog.de/de/p/festivals/tanz/tanzfest-winterthur-2026-7429178964399161311.html
LOCATION:8400 Winterthur
GEO:47.499253;8.729560
URL:https://eventfrog.de/de/p/festivals/tanz/tanzfest-winterthur-2026-7429178964399161311.html
END:VEVENT
END:VCALENDAR