BEGIN:VCALENDAR
VERSION:2.0
PRODID:EVENTFROG//EVENT//ICAL
BEGIN:VEVENT
UID:20260422T013323Z-7431358506299612636@eventfrog.de
DTSTAMP:20260422T013323Z
DTSTART:20260614T083000Z
DTEND:20260614T113000Z
SUMMARY:Zumbathon Charity Event Zurich
DESCRIPTION:Zumbathon gegen Brustkrebs am 14.06.2026 Sonntag in Zurich (Rafz): Drei Stunden Tanz für Solidarität und Unterstützung der Krebsliga Zürich.\n\nhttps://eventfrog.de/de/p/sport-fitness/tanzsport/zumbathon-charity-event-zurich-7431358506299612636.html
LOCATION:Saalsporthalle Schalmenacker
GEO:47.608388;8.546169
URL:https://eventfrog.de/de/p/sport-fitness/tanzsport/zumbathon-charity-event-zurich-7431358506299612636.html
END:VEVENT
END:VCALENDAR