BEGIN:VCALENDAR
VERSION:2.0
PRODID:EVENTFROG//EVENT//ICAL
BEGIN:VEVENT
UID:20260422T013301Z-7431719208025589631@eventfrog.de
DTSTAMP:20260422T013301Z
DTSTART:20261212T080000Z
DTEND:20261212T103000Z
SUMMARY:Besuch der Greifvogelstation: Schwerpunktthema Hungervögel
DESCRIPTION:Führung in der Greifvogelstation Berg am Irchel über das Thema "Hungervögel". Warum gibt so viele Hunger leidende Tiere?\n\nhttps://eventfrog.de/de/p/fuehrungen-vortraege/fuehrung/besuch-der-greifvogelstation-schwerpunktthema-hungervoegel-7431719208025589631.html
LOCATION:Greifvogelstation
GEO:47.570100;8.597750
URL:https://eventfrog.de/de/p/fuehrungen-vortraege/fuehrung/besuch-der-greifvogelstation-schwerpunktthema-hungervoegel-7431719208025589631.html
END:VEVENT
END:VCALENDAR