BEGIN:VCALENDAR
VERSION:2.0
PRODID:EVENTFROG//EVENT//ICAL
BEGIN:VEVENT
UID:20260422T013323Z-7431721725597847207@eventfrog.de
DTSTAMP:20260422T013323Z
DTSTART:20260502T120000Z
DTEND:20260530T160000Z
SUMMARY:Lehrpersonen-Weiterbildung: Froschteich
DESCRIPTION:Lehrpersonen-Weiterbildung für Leute, welche sich für die Natur der Teiche interessieren.\n\nhttps://eventfrog.de/de/p/kurse-seminare/berufliche-bildung/lehrpersonen-weiterbildung-froschteich-7431721725597847207.html
LOCATION:Naturzentrum Thurauen
GEO:47.579200;8.581180
URL:https://eventfrog.de/de/p/kurse-seminare/berufliche-bildung/lehrpersonen-weiterbildung-froschteich-7431721725597847207.html
END:VEVENT
END:VCALENDAR