BEGIN:VCALENDAR
VERSION:2.0
PRODID:EVENTFROG//EVENT//ICAL
BEGIN:VEVENT
UID:20260422T013322Z-7431723490540013188@eventfrog.de
DTSTAMP:20260422T013322Z
DTSTART:20260515T181500Z
DTEND:20260515T210000Z
SUMMARY:NaturFilm-Abend: «Orang-Utans – die unbekannten Menschenaffe
DESCRIPTION:Ein Familien-Film-Abend über den Film: "Orang-Utans – die unbekannten Menschenaffen"\n\nhttps://eventfrog.de/de/p/kinderveranstaltungen/familienveranstaltungen/naturfilm-abend-orang-utans-die-unbekannten-menschenaffe-7431723490540013188.html
LOCATION:Naturzentrum Thurauen
GEO:47.579200;8.581180
URL:https://eventfrog.de/de/p/kinderveranstaltungen/familienveranstaltungen/naturfilm-abend-orang-utans-die-unbekannten-menschenaffe-7431723490540013188.html
END:VEVENT
END:VCALENDAR