BEGIN:VCALENDAR
VERSION:2.0
PRODID:EVENTFROG//EVENT//ICAL
BEGIN:VEVENT
UID:20260422T013301Z-7431724834432748827@eventfrog.de
DTSTAMP:20260422T013301Z
DTSTART:20260520T120000Z
DTEND:20260520T140000Z
SUMMARY:Tiere im Tümpel
DESCRIPTION:Entdecke die Welt der Tümpel von den Thurauen\n\nhttps://eventfrog.de/de/p/freizeit-ausfluege/ausflug/tiere-im-tuempel-7431724834432748827.html
LOCATION:Naturzentrum Thurauen
GEO:47.579200;8.581180
URL:https://eventfrog.de/de/p/freizeit-ausfluege/ausflug/tiere-im-tuempel-7431724834432748827.html
END:VEVENT
END:VCALENDAR