BEGIN:VCALENDAR
VERSION:2.0
PRODID:EVENTFROG//EVENT//ICAL
BEGIN:VEVENT
UID:20260422T013322Z-7431726297594784688@eventfrog.de
DTSTAMP:20260422T013322Z
DTSTART:20260523T043000Z
DTEND:20260523T080000Z
SUMMARY:Frühling im Auenwald
DESCRIPTION:Beobachte Wasservögel und lausche dem Kuckuck während eines Spaziergangs durch die Thurauen.\n\nhttps://eventfrog.de/de/p/freizeit-ausfluege/tier-und-naturerlebnisse/fruehling-im-auenwald-7431726297594784688.html
LOCATION:Naturzentrum Thurauen
GEO:47.579200;8.581180
URL:https://eventfrog.de/de/p/freizeit-ausfluege/tier-und-naturerlebnisse/fruehling-im-auenwald-7431726297594784688.html
END:VEVENT
END:VCALENDAR