BEGIN:VCALENDAR
VERSION:2.0
PRODID:EVENTFROG//EVENT//ICAL
BEGIN:VEVENT
UID:20260421T235214Z-7431728019419490329@eventfrog.de
DTSTAMP:20260421T235214Z
DTSTART:20261205T183000Z
DTEND:20261205T201500Z
SUMMARY:Adventskonzert
DESCRIPTION:Mozarts g-Moll-Sinfonie KV 550 und c-Moll-Messe KV 427 erklingen mit dem Concentus Chor Zürich, Solisten und dem Orchester Conductus unter der Leitung von Donat Maron.\n\nhttps://eventfrog.de/de/p/klassik-opern/klassik/adventskonzert-7431728019419490329.html
LOCATION:Stadthalle Bülach
GEO:47.515640;8.536455
URL:https://eventfrog.de/de/p/klassik-opern/klassik/adventskonzert-7431728019419490329.html
END:VEVENT
END:VCALENDAR