BEGIN:VCALENDAR
VERSION:2.0
PRODID:EVENTFROG//EVENT//ICAL
BEGIN:VEVENT
UID:20260422T013323Z-7431728803846591584@eventfrog.de
DTSTAMP:20260422T013323Z
DTSTART:20260525T120000Z
DTEND:20260525T143000Z
SUMMARY:Biodiversitätstage bei den Greifvögeln
DESCRIPTION:Werfen Sie im Rahmen der Biodiversitätstage einen Blick hinter die Kulissen der Greifvogelstation.\n\nhttps://eventfrog.de/de/p/fuehrungen-vortraege/fuehrung/biodiversitaetstage-bei-den-greifvoegeln-7431728803846591584.html
LOCATION:Greifvogelstation
GEO:47.570100;8.597750
URL:https://eventfrog.de/de/p/fuehrungen-vortraege/fuehrung/biodiversitaetstage-bei-den-greifvoegeln-7431728803846591584.html
END:VEVENT
END:VCALENDAR