BEGIN:VCALENDAR
VERSION:2.0
PRODID:EVENTFROG//EVENT//ICAL
BEGIN:VEVENT
UID:20260422T013322Z-7431729724643088487@eventfrog.de
DTSTAMP:20260422T013322Z
DTSTART:20260529T180000Z
DTEND:20260529T211500Z
SUMMARY:Nachts auf dem Erlebnispfad Erwachsene
DESCRIPTION:Erkunden Sie mit uns die Tümpel unseres Erlebnispfads und beobachten Sie wie im Schutz der Dunkelheit andere Tiere zum Vorschein kommen.\n\nhttps://eventfrog.de/de/p/freizeit-ausfluege/tier-und-naturerlebnisse/nachts-auf-dem-erlebnispfad-erwachsene-7431729724643088487.html
LOCATION:Naturzentrum Thurauen
GEO:47.579200;8.581180
URL:https://eventfrog.de/de/p/freizeit-ausfluege/tier-und-naturerlebnisse/nachts-auf-dem-erlebnispfad-erwachsene-7431729724643088487.html
END:VEVENT
END:VCALENDAR