BEGIN:VCALENDAR
VERSION:2.0
PRODID:EVENTFROG//EVENT//ICAL
BEGIN:VEVENT
UID:20260422T013301Z-7431730623604070464@eventfrog.de
DTSTAMP:20260422T013301Z
DTSTART:20260606T183000Z
DTEND:20260606T210000Z
SUMMARY:NaturFilm-Abend: Der wilde Wald
DESCRIPTION:Welche Rolle haben wilde Wälder für uns Menschen und wie können wir sie für künftige Generationen bewahren? Fachpersonen des Naturzentrums entführen sie in die Thurauen und den Nationalpark Bayerische\n\nhttps://eventfrog.de/de/p/freizeit-ausfluege/film-kino/naturfilm-abend-der-wilde-wald-7431730623604070464.html
LOCATION:Naturzentrum Thurauen
GEO:47.579200;8.581180
URL:https://eventfrog.de/de/p/freizeit-ausfluege/film-kino/naturfilm-abend-der-wilde-wald-7431730623604070464.html
END:VEVENT
END:VCALENDAR