BEGIN:VCALENDAR
VERSION:2.0
PRODID:EVENTFROG//EVENT//ICAL
BEGIN:VEVENT
UID:20260422T013302Z-7431732010471675694@eventfrog.de
DTSTAMP:20260422T013302Z
DTSTART:20260612T080000Z
DTEND:20260612T120000Z
SUMMARY:Lehrpersonen-Weiterbildung: Schmetterlinge
DESCRIPTION:Der Schmetterlingsexperte Pascal Reutimann nimmt Sie mit in die faszinierende Welt der Falter. Gemeinsam erkunden Sie die Schmetterlingsarten der Thurauen und lernen, wie man Schmetterlinge fangen und\n\nhttps://eventfrog.de/de/p/kurse-seminare/berufliche-bildung/lehrpersonen-weiterbildung-schmetterlinge-7431732010471675694.html
LOCATION:Naturzentrum Thurauen
GEO:47.579200;8.581180
URL:https://eventfrog.de/de/p/kurse-seminare/berufliche-bildung/lehrpersonen-weiterbildung-schmetterlinge-7431732010471675694.html
END:VEVENT
END:VCALENDAR