BEGIN:VCALENDAR
VERSION:2.0
PRODID:EVENTFROG//EVENT//ICAL
BEGIN:VEVENT
UID:20260422T013301Z-7431732902155536217@eventfrog.de
DTSTAMP:20260422T013301Z
DTSTART:20260618T153000Z
DTEND:20260618T170000Z
SUMMARY:Jubiläumsveranstaltung: Abendspaziergang in den Thurauen
DESCRIPTION:«Natur schützen, stärken und erleben.» Ganz im Sinn unseres Jubiläumsmottos laden wir Sie zu einem gemeinsamen Spaziergang in den Thurauen ein. Wir zeigen Ihnen einen unserer Lieblingsorte und sind ge\n\nhttps://eventfrog.de/de/p/freizeit-ausfluege/tier-und-naturerlebnisse/jubilaeumsveranstaltung-abendspaziergang-in-den-thurauen-7431732902155536217.html
LOCATION:Naturzentrum Thurauen
GEO:47.579200;8.581180
URL:https://eventfrog.de/de/p/freizeit-ausfluege/tier-und-naturerlebnisse/jubilaeumsveranstaltung-abendspaziergang-in-den-thurauen-7431732902155536217.html
END:VEVENT
END:VCALENDAR