BEGIN:VCALENDAR
VERSION:2.0
PRODID:EVENTFROG//EVENT//ICAL
BEGIN:VEVENT
UID:20260422T013323Z-7431733717821882233@eventfrog.de
DTSTAMP:20260422T013323Z
DTSTART:20260620T150000Z
DTEND:20260620T200000Z
SUMMARY:Biber-Abend 2
DESCRIPTION:Die Biber breiten sich immer weiter aus. Trotzdem bedarf es ein wenig Glück, um einem der Nagetiere zu begegnen. Wir helfen dabei!\n\nhttps://eventfrog.de/de/p/fuehrungen-vortraege/fuehrung/biber-abend-2-7431733717821882233.html
LOCATION:Naturzentrum Thurauen
GEO:47.579200;8.581180
URL:https://eventfrog.de/de/p/fuehrungen-vortraege/fuehrung/biber-abend-2-7431733717821882233.html
END:VEVENT
END:VCALENDAR