BEGIN:VCALENDAR
VERSION:2.0
PRODID:EVENTFROG//EVENT//ICAL
BEGIN:VEVENT
UID:20260422T013322Z-7431734352705264492@eventfrog.de
DTSTAMP:20260422T013322Z
DTSTART:20260627T070000Z
DTEND:20260627T093000Z
SUMMARY:Besuch der Greifvogelstation: Schwerpunktthema Rotmilan
DESCRIPTION:Werfen Sie einen Blick hinter die Kulissen und erfahren Sie Faszinierendes über die Rotmilane, die man bei uns gut beobachten kann.\n\nhttps://eventfrog.de/de/p/fuehrungen-vortraege/fuehrung/besuch-der-greifvogelstation-schwerpunktthema-rotmilan-7431734352705264492.html
LOCATION:Greifvogelstation
GEO:47.570100;8.597750
URL:https://eventfrog.de/de/p/fuehrungen-vortraege/fuehrung/besuch-der-greifvogelstation-schwerpunktthema-rotmilan-7431734352705264492.html
END:VEVENT
END:VCALENDAR