BEGIN:VCALENDAR
VERSION:2.0
PRODID:EVENTFROG//EVENT//ICAL
BEGIN:VEVENT
UID:20260422T013301Z-7431734715541935679@eventfrog.de
DTSTAMP:20260422T013301Z
DTSTART:20260509T080000Z
SUMMARY:Weniger Stress - mehr Leistung
DESCRIPTION:Infos folgen\n\nhttps://eventfrog.de/de/p/gesundheit-spiritualitaet/gesundheit-wohlbefinden/weniger-stress-mehr-leistung-7431734715541935679.html
LOCATION:Physio-Fit Bülach
GEO:47.508132;8.538158
URL:https://eventfrog.de/de/p/gesundheit-spiritualitaet/gesundheit-wohlbefinden/weniger-stress-mehr-leistung-7431734715541935679.html
END:VEVENT
END:VCALENDAR